{"text_format":"1","workbook":"xlsx","n_sheets":27,"sheets":["26_Regiones","Amazonas","Ancash","Apurimac","Arequipa","Ayacucho","Cajamarca","Callao","Cusco","Huancavelica","Huanuco","Ica","Junin","La_Libertad","Lambayeque","Lima_Metropolitana","Lima_Provincias","Loreto","Madre_de_Dios","Moquegua","Pasco","Piura","Puno","San_Martin","Tacna","Tumbes","Ucayali"],"not_rendered":{"charts":0,"images":2,"macros":1,"external_links":0,"defined_names":29,"comments":0,"pivot_tables":0},"unopened":[],"bounds":{"document_bytes":16777216,"sheet_cells":100000,"rows_first":2000,"rows_last":500,"rows_between":2000,"halvings":0,"cell_chars":16384,"cell_head_chars":4096},"cells_cut":0,"cells_raw":0,"read":"whole","date_system":"1900"}

{"sheet":"26_Regiones","index":0,"n_rows":45,"n_cols":31,"rows_kept":45,"cut":false,"hidden":false,"merged":[[24,15,25,15],[24,1,25,1],[24,2,25,2],[24,10,25,10],[24,13,25,13],[24,14,25,14],[24,16,25,16],[24,17,25,17],[24,29,25,29],[6,16,7,17],[6,18,7,19],[6,24,7,27],[6,28,7,28],[6,29,7,29],[6,13,7,15],[6,30,7,30],[7,20,7,21],[7,22,7,23],[6,20,6,23],[44,15,44,16],[6,9,7,9],[3,0,3,30],[4,0,4,30],[5,1,5,6],[5,7,5,9],[5,10,5,19],[5,20,5,23],[5,24,5,30],[6,1,7,2],[6,3,7,5],[6,6,7,6],[6,7,7,7],[6,8,7,8],[6,10,7,10],[6,11,7,12]]}
[]
[]
[]
["INDICADORES SOCIODEMOGRÁFICOS Y BRECHAS DE GÉNERO"]
[]
[null,"EDUCACIÓN",null,null,null,null,null,"SALUD",null,null,"ECONOMÍA",null,null,null,null,null,null,null,null,null,"PARTICIPACIÓN POLÍTICA",null,null,null,"VIOLENCIA Y OTROS DELITOS"]
[null,"Tasa de analfabetismo de personas de 15 años a más (ENAHO, 2019)",null,"Tasa neta de asistencia en educación en la modalidad básica regular (MINEDU, 2020)",null,null,"Tasa de deserción escolar en la educación básica (MINEDU, 2020)","Adolescentes de 15 a 19 años de edad alguna vez embarazadas (ENDES, 2022)","Porcentaje de mujeres que usan métodos anticonceptivos (ENDES, 2022)","Porcentaje de mujeres con necesidad insatisfecha de planificación familiar (ENDES, 2022)","Porcentaje de mujeres jefas de hogar (ENAHO, 2020)","Tasa de actividad económica de mujeres y hombres (ENAHO, 2020)",null,"Porcentaje de mujeres ocupadas, según sector económico (ENAHO, 2019)",null,null,"Porcentaje de mujeres y hombres que están afiliados a un sistema de pensión (ENAHO, 2020)",null,"Porcentaje de mujeres y hombres sin ingresos propios (ENAHO, 2020)",null,"Número de Alcaldes/as Provinciales y Distritales 2023-2026 (JNE, 2023)",null,null,null,"Violencia familiar contra la mujer ejercida alguna vez por el esposo o compañero (ENDES, 2022)",null,null,null,"Violencia física y/o sexual ejercida por el esposo o compañero en los últimos 12 meses (ENDES, 2022)","Mujeres víctimas del delito de trata de personas con denuncia registrada en la PNP (Ministerio Público, 2020)","Número de casos de víctimas de feminicidio (Programa Aurora, Ene - May 2023)"]
[null,null,null,null,null,null,null,null,null,null,null,null,null,null,null,null,null,null,null,null,"Alcaldes Provinciales",null,"Alcaldes Distritales"]
["Región","Mujeres","Hombres","Educación inicial","Educación primaria","Educación secundaria","Total","Total","Total","Total","Total","Mujeres","Hombres","Sector Primario","Sector Secundario","Sector Terciario","Mujeres","Hombres","Mujeres","Hombres","Mujeres","Hombres","Mujeres","Hombres","Total","Psicológica","Física","Sexual","Total","Total","Total"]
["Nacional",8.1000000000000003E-2,0.03,0.81200000000000006,0.94399999999999995,0.83499999999999996,9.0999999999999998E-2,7.4999999999999997E-2,0.77900000000000003,5.8999999999999997E-2,0.17710000000000001,"64.5%","81.1%",0.214,8.5999999999999993E-2,0.7,0.28789999999999999,0.41699999999999998,"29.4%","11.9%",9,187,93,1601,0.55700000000000005,0.51900000000000002,0.27800000000000002,6.7000000000000004E-2,8.5999999999999993E-2,342,{"$f":"SUM(AE11:AE36)","v":68}]
["Amazonas","12.3%","4.3%","88.2%","92.8%","80.2%","11.6%",0.17390879325484762,0.78951000362027102,5.4021667852971814E-2,"15.41%","74%","88.7%",0.47,"2.8%","50.2%","12.41%","18.74%","35.2%","11.7%",0,7,4,73,0.51329590710957551,0.45774670680725654,0.26767004792319021,5.4000000000000006E-2,0.10179901445534073,3,2]
["Ancash","13.7%","4.5%","84.4","97.8%",0.86,"5.7%",7.0659519055476225E-2,0.78320784876899252,4.8912131462421786E-2,"17.09%","67.8%","82.6%","36.3%","5.3%","58.5%","23.25%","41.27%","32%","11.6%",1,19,6,140,0.54726858238742715,0.50304199592119703,0.25959946865505901,2.5959946865505902E-3,6.9000000000000006E-2,3,1]
["Apurímac",0.2,5.8000000000000003E-2,0.99,"97.7",0.87,1.0999999999999999E-2,5.6946371103113035E-2,0.76538899054011,5.5303622837597544E-2,"14.53%","77.7%","87.6%","50.5",3.1E-2,"46.4","8.53%","22.74%","35.9%","11.9%",0,7,3,75,0.65283101691095813,0.60733746243845399,0.36982048092688768,3.6982048092688768E-3,0.14369864427860213,4,1]
["Arequipa","4.7%","1.5%","82.9%","95.6%","90.2%","3.8%",2.4331506724918666E-2,0.79082873689267397,6.3343047779595957E-2,"20.53%","62.8%","77.2%","12.9%","9.2%","77.9%","39.01%","53.53%","26.2%","12.7%",0,8,6,95,0.58967015145332558,0.54966029154617946,0.32101524959743971,3.2101524959743969E-3,0.13535981236532352,13,12]
["Ayacucho",0.185,5.0999999999999997E-2,0.84299999999999997,0.96499999999999997,0.84599999999999997,9.1999999999999998E-2,7.8982013167071333E-2,0.77400429830322126,5.385584465845776E-2,0.20630000000000001,"70.2%","81%",0.46200000000000002,3.2000000000000001E-2,0.50600000000000001,0.1258,0.25380000000000003,"34%","14.1%",0,11,4,109,0.53147797282047371,0.45693012828620616,0.34119843822091794,3.4119843822091795E-3,7.9111808055865582E-2,3,2]
["Cajamarca","17.9%","6.5%","89.2%","97.8%","84.6%","9.6%",0.12972937287597378,0.79596101026638666,5.2108998107000343E-2,"16.19%","72.1%","85.8%","52.9%","10.3%","36.8%","11.01%","23.01%","36.6%","11.6%",0,13,3,111,0.51316699915128894,0.48910517247243007,0.23215833275683942,2.3215833275683942E-3,8.4000000000000005E-2,6,6]
["Callao","3.1%","0.6%","80.6%","91.2%","84.5%","5.3%",6.1056090154752447E-2,0.73980394920224346,7.1543511266531495E-2,"20.94%","58.3%","78.6%","0.5%",0.1,"89.5%","46.85%","62.06%","30.6%","11.1%",0,1,0,6,0.56477777168702314,0.5337890716416166,0.25211533648101059,2.5211533648101057E-3,7.2999999999999995E-2,4,1]
["Cusco",0.16,3.7999999999999999E-2,0.84399999999999997,0.98799999999999999,0.89800000000000002,4.7E-2,8.8971390375044965E-2,0.75413871958296508,7.6008494340018537E-2,0.1966,"73.6%","82%",0.40799999999999997,6.0999999999999999E-2,0.53100000000000003,0.11260000000000001,0.2487,"34%","14.5%",2,11,7,96,0.60438685950061333,0.57467003010632178,0.35942171205372092,3.5942171205372094E-3,0.15480621496382824,19,4]
["Huancavelica","19.2%","5.9%","93.7%","97.5%","88.4%","4.1%",0.14846734665959313,0.78906615336926289,6.1437045572177815E-2,"15.12%","80.1%","87.3%","58.7%","7.5%","33.8%","6.78%","24.26%","37.8%","13.2%",0,7,3,92,0.5819653040763666,0.53455807839150338,0.33824377832122382,3.3824377832122384E-3,0.12883147090097316,1,2]
["Huánuco",0.20100000000000001,7.1999999999999995E-2,"82.2","97.5","79.8",5.8999999999999997E-2,0.10867580665521891,0.74465743514518734,8.2726847412538038E-2,"16.54%","65.8%","84.4%","40.6",7.1999999999999995E-2,"52.2","12.66%","20.28%","34.8%","10.1%",0,11,6,67,0.47074225556467492,0.41654994181442456,0.24693844863537506,2.4693844863537505E-3,6.3E-2,12,2]
["Ica",2.8000000000000001E-2,1.7999999999999999E-2,"91.9","94.2","85.8",6.4000000000000001E-2,7.4462175510167233E-2,0.83542369379749315,2.7512656752251521E-2,"23.16%","63%","80.8%",0.115,0.128,"75.6","54.88%","65.50%","21.7%","10.5%",0,5,5,33,0.52670501262214164,0.49764064559942317,0.25319021074074693,2.5319021074074691E-3,6.7000000000000004E-2,"-",3]
["Junin","10.7%","3.3%","66.6%","93.7%","83.5%","8.1%",9.5568057803874507E-2,0.81346413289082509,4.672212717246136E-2,"17.27%","69.2%","84%",0.38,"4.8%","57.2%","17.85%","29.55%","33.2%","12.5%",0,9,6,109,0.69073338132697448,0.635922112869034,0.40825974571092621,4.0825974571092622E-3,0.113,8,1]
["La Libertad","7.6%","2.6%","85.9%","93.6%","79.4%",0.154,6.8691143924197492E-2,0.82969546480223333,4.3942647542504369E-2,"16.70% ","64.7%","81%",0.2,"10.1%","69.9%","34.67%","45.96%","29.2%","13.2%",1,11,1,70,0.58399755057198954,0.54496070980986078,0.2447019213270103,2.4470192132701029E-3,6.8000000000000005E-2,12,1]
["Lambayeque","7.6%","2.7%","78.6%","92.2%",0.82,"12.5%",0.10366307263240568,0.73750279254296291,6.8063070228264355E-2,"16.22%","58%","80.6%","18.1%","8.8%","73.1%","33.13%","41.20%","27.5%","8.5%",1,2,2,33,0.446602224984052,0.42124714912577643,0.21291090929745399,2.1291090929745401E-3,5.7999999999999996E-2,21,1]
["Lima Metropolitana","3.1%","1.4%","79.1%","92.7%",0.84,8.7999999999999995E-2,3.7422504532889547E-2,0.78735816368169287,6.041138822084844E-2,"19.40%","60.9%","78.6%","3.4%","10.1%","86.5%","45.00%","56.33%","26.5%","11.6%",0,1,6,36,0.56339401830901681,0.5338781660970785,0.26587567922739452,2.6587567922739452E-3,8.2005275400061153E-2,190,13]
["Lima provincias",null,null,"78.8%","94.8%","78.4%","8.7%",4.9142666084746003E-2,0.76734897002341096,6.0569516754898058E-2,null,"62.2%","80.8%",null,null,null,null,null,"28.9%","9.8%",0,9,11,108,0.56198143027741965,0.53369892769691429,0.27117235097630477,2.7117235097630478E-3,6.2E-2,null,2]
["Loreto",8.4000000000000005E-2,4.5999999999999999E-2,0.72799999999999998,0.83099999999999996,0.67700000000000005,0.159,0.1482675965331034,0.69707046866308875,0.10071655491221491,0.22309999999999999,"57.7%","78.9%",0.183,5.6000000000000001E-2,0.76100000000000001,0.23899999999999999,0.35099999999999998,"38.4%","14.4%",0,8,5,40,0.54229257192830604,0.48971584209619112,0.25989093722276624,2.5989093722276623E-3,0.10416994042238302,13,1]
["Madre de Dios",5.8000000000000003E-2,1.9E-2,"73.3","96.4","79.2",8.1000000000000003E-2,9.6635163915609557E-2,0.73925457077984769,8.707736249168338E-2,"21.09%","64.7%","82.5%",0.128,6.5000000000000002E-2,"80.7","20.49%","32.49%","26.9%","11.7%",0,3,1,7,0.65572440396774312,0.60138212091137766,0.32393759818591844,3.2393759818591843E-3,0.105,5,0]
["Moquegua",8.1000000000000003E-2,1.0999999999999999E-2,"87.1","96.1","94.9",0.02,3.9571416394678559E-2,0.78048760668955108,5.1957999431405923E-2,"20.81%","64.7%","81.8%",0.217,7.3999999999999996E-2,0.71,"42.31%","77.21%","27.2%","12.1%",1,2,1,17,0.60846020343906948,0.56241726406468218,0.31433428749467812,3.1433428749467812E-3,6.4000000000000001E-2,1,0]
["Pasco",0.1,2.5999999999999999E-2,"84.5","96.1","87.3",3.4000000000000002E-2,0.10724373857305446,0.75764640930898042,5.9211373688729502E-2,"14.90%","63.3%","84.7%","38.8",6.7000000000000004E-2,"54.6","14.56%","37.80%","36.8%","12%",0,3,4,22,0.49557812648531063,0.45119064830824906,0.30282943895000369,3.0282943895000368E-3,7.9000000000000001E-2,5,2]
["Piura","9.3%","4.9%","89.2%","95.1%","83.7%","13.1%",9.9192132042921891E-2,0.80174058965043782,3.5334410185936575E-2,"12.30%","63.4%","83%","15.4%","11.9%","72.7%","28.82%","42.35%","26%","10.8%",1,7,2,55,0.55973465318745752,0.5160223308905596,0.24188977081581645,2.4188977081581646E-3,9.0999999999999998E-2,3,1]
["Puno","14.2%","3.1%",0.65,"99.3%","93.8%","2.3%",4.6582430629821189E-2,0.73649326274655091,8.365092033919129E-2,"19.24%","74.6%","81.1%","44.1%","7.9%","48.1%","9.96%","24.91%","26.3%","17.2%",0,13,2,95,0.54446589625932806,0.50739829723486563,0.33718589165967011,3.371858916596701E-3,8.4836444605173617E-2,1,1]
["San Martín","10.3%","5.00%","82.9%","93.5%","75.5%",0.17,0.11261920966665323,0.78439489560600051,5.1456121778069165E-2,"11.31%","63.3%","86.7%","33.6%","4.7%","61.6%","11.70%","21.30%","34.9%","9.9%",1,9,2,66,0.56135476301893616,0.51945430973775442,0.30517161459076175,3.0517161459076175E-3,6.5000000000000002E-2,8,4]
["Tacna",5.2999999999999999E-2,1.4E-2,0.74,"96.4","91.2",3.3000000000000002E-2,3.0179245718593067E-2,0.76169381558743221,8.380274596255935E-2,"22.04%","63.5%","74.5%",0.13700000000000001,8.4000000000000005E-2,"77.9","38.41%","56.37%","26%","13.7%",0,4,2,22,0.47786899998919863,0.43919676208237285,0.24744211975249614,2.4744211975249613E-3,4.9000000000000002E-2,8,3]
["Tumbes",3.3000000000000002E-2,3.6999999999999998E-2,"95.8","94.5","80.6",0.189,0.10396269742211268,0.77720481620853865,3.3818500422485458E-2,"14.63%","63%","81.8%",4.2000000000000003E-2,7.5999999999999998E-2,"88.2","22.64%","28.99%","24.2%","8.3%",0,3,0,10,0.55396276868390693,0.5029662462493395,0.29309373341520273,2.9309373341520274E-3,0.10099999999999999,"-",0]
["Ucayali","7.7%","2.2%","72.8%","92.2%","71.9%","17.5%",0.17027260188329682,0.72267481881736739,8.0685189236717025E-2,"16.20%","63.9%","84.4%","14.7%","7.7%","77.7%","20.83%","35.86%","29.8%","9.8%",1,3,1,14,0.42687751937778562,0.34758628152107918,0.26265561361725398,2.6265561361725398E-3,4.2000000000000003E-2,1,2]
[]
[]
[]
[]
[]
[]
[]
[]
[null,null,null,null,null,null,null,null,null,null,null,null,null,null,null,"Ubicación",null,"C:\\Users\\omep01\\Downloads\\Macros Percy\\pdf\\brechas\\"]

{"sheet":"Amazonas","index":1,"n_rows":47,"n_cols":4,"rows_kept":47,"cut":false,"hidden":false,"merged":[[37,0,37,3],[38,0,41,0],[42,0,42,1],[43,0,43,1],[44,0,44,1],[23,0,25,0],[26,0,27,0],[28,0,29,0],[30,0,30,3],[31,0,36,0],[31,1,31,3],[34,1,34,3],[21,0,22,0],[5,0,5,3],[7,0,7,1],[8,0,8,3],[9,0,10,0],[11,0,13,0],[15,0,15,3],[16,0,16,1],[17,0,17,1],[18,0,18,1],[19,0,19,3],[20,0,20,1]]}
[]
[]
[]
[]
[]
["INDICADORES SOCIODEMOGRÁFICOS Y BRECHAS DE GÉNERO EN EL DEPARTAMENTO DE AMAZONAS"]
[]
["INDICADORES SOECIOENCÓMICOS *",null,"AMAZONAS","NACIONAL"]
["EDUCACIÓN"]
["Tasa de analfabetismo de personas de 15 años a más (ENAHO, 2019)","Mujeres","12.3%","8.1%"]
[null,"Hombres","4.3%","3.0%"]
["Tasa neta de asistencia en educación en la modalidad básica regular (MINEDU, 2020)","Educación inicial","88.2%",0.81200000000000006]
[null,"Educación primaria","92.8%",0.94399999999999995]
[null,"Educación secundaria","80.2%",0.83499999999999996]
["Tasa de deserción escolar en la educación básica (MINEDU, 2020)","Total","11.6%",9.0999999999999998E-2]
["SALUD"]
[{"$f":"+'26_Regiones'!$H$7","v":"Adolescentes de 15 a 19 años de edad alguna vez embarazadas (ENDES, 2022)"},null,{"$f":"'26_Regiones'!H11","v":0.17390879325484762},{"$f":"'26_Regiones'!$H$10","v":7.4999999999999997E-2}]
[{"$f":"+'26_Regiones'!$I$7","v":"Porcentaje de mujeres que usan métodos anticonceptivos (ENDES, 2022)"},null,{"$f":"'26_Regiones'!I11","v":0.78951000362027102},{"$f":"'26_Regiones'!$I$10","v":0.77900000000000003}]
[{"$f":"+'26_Regiones'!$J$7","v":"Porcentaje de mujeres con necesidad insatisfecha de planificación familiar (ENDES, 2022)"},null,{"$f":"'26_Regiones'!J11","v":5.4021667852971814E-2},{"$f":"'26_Regiones'!$J$10","v":5.8999999999999997E-2}]
["ECONOMÍA"]
["Porcentaje de mujeres jefas de hogar (ENAHO, 2020)",null,"15.41%","17.71%"]
["Tasa de actividad económica de mujeres y hombres (ENAHO, 2020)","Mujeres","69.44%",0.54510000000000003]
[null,"Hombres","86.27%",0.74970000000000003]
["Porcentaje de mujeres ocupadas, según sector económico (ENAHO, 2019)","A) Sector Primario",0.47,"21.4%"]
[null,"B) Sector Secundario","2.8%","8.6%"]
[null,"C) Sector Terciario","50.2%","70.0%"]
["Porcentaje de mujeres y hombres que están afiliados a un sistema de pensión (ENAHO, 2020)","Mujeres","12.41%",0.28789999999999999]
[null,"Hombres","18.74%",0.41699999999999998]
["Porcentaje de mujeres y hombres sin ingresos propios (ENAHO, 2020)","Mujeres","31.0%",0.36]
[null,"Hombres","11.8%",0.19700000000000001]
["PARTICIPACIÓN POLÍTICA"]
["Número de Alcaldes/as Provinciales y Distritales 2023-2026 (JNE, 2023)","A) Alcaldes Provinciales (7 Provincias)"]
[null,"Mujeres",{"$f":"+'26_Regiones'!U11","v":0},{"$f":"+'26_Regiones'!U10","v":9}]
[null,"Hombres",{"$f":"+'26_Regiones'!V11","v":7},{"$f":"+'26_Regiones'!V10","v":187}]
[null,"B) Alcaldes Distritales (77 Distritos)"]
[null,"Mujeres",{"$f":"+'26_Regiones'!W11","v":4},{"$f":"+'26_Regiones'!W10","v":93}]
[null,"Hombres",{"$f":"+'26_Regiones'!X11","v":73},{"$f":"+'26_Regiones'!X10","v":1601}]
["VIOLENCIA Y OTROS DELITOS"]
[{"$f":"+'26_Regiones'!$Y$7","v":"Violencia familiar contra la mujer ejercida alguna vez por el esposo o compañero (ENDES, 2022)"},"Total",{"$f":"'26_Regiones'!Y11","v":0.51329590710957551},{"$f":"'26_Regiones'!$Y$10","v":0.55700000000000005}]
[null,"Psicológica",{"$f":"'26_Regiones'!Z11","v":0.45774670680725654},{"$f":"'26_Regiones'!$Z$10","v":0.51900000000000002}]
[null,"Física",{"$f":"'26_Regiones'!AA11","v":0.26767004792319021},{"$f":"'26_Regiones'!$AA$10","v":0.27800000000000002}]
[null,"Sexual",{"$f":"'26_Regiones'!AB11","v":5.4000000000000006E-2},{"$f":"'26_Regiones'!$AB$10","v":6.7000000000000004E-2}]
[{"$f":"+'26_Regiones'!$AC$7","v":"Violencia física y/o sexual ejercida por el esposo o compañero en los últimos 12 meses (ENDES, 2022)"},null,{"$f":"'26_Regiones'!AC11","v":0.10179901445534073},{"$f":"'26_Regiones'!$AC$10","v":8.5999999999999993E-2}]
["Mujeres víctimas del delito de trata de personas con denuncia registrada en la PNP (Ministerio Público, 2020)",null,3,342]
[{"$f":"+'26_Regiones'!AE7","v":"Número de casos de víctimas de feminicidio (Programa Aurora, Ene - May 2023)"},null,{"$f":"+'26_Regiones'!AE11","v":2},{"$f":"+'26_Regiones'!AE10","v":68}]
[]
["*Se han incluido indicadores claves con desagregado a nivel regional"]

{"sheet":"Ancash","index":2,"n_rows":44,"n_cols":4,"rows_kept":44,"cut":false,"hidden":false,"merged":[[34,0,34,3],[35,0,38,0],[39,0,39,1],[40,0,40,1],[41,0,41,1],[20,0,22,0],[23,0,24,0],[25,0,26,0],[27,0,27,3],[28,0,33,0],[28,1,28,3],[31,1,31,3],[18,0,19,0],[2,0,2,3],[4,0,4,1],[5,0,5,3],[6,0,7,0],[8,0,10,0],[12,0,12,3],[13,0,13,1],[14,0,14,1],[15,0,15,1],[16,0,16,3],[17,0,17,1]]}
[]
[]
["INDICADORES SOCIODEMOGRÁFICOS Y BRECHAS DE GÉNERO EN EL DEPARTAMENTO DE ÁNCASH"]
[]
["INDICADORES SOECIOENCÓMICOS *",null,"ÁNCASH","NACIONAL"]
["EDUCACIÓN"]
["Tasa de analfabetismo de personas de 15 años a más (ENAHO, 2019)","Mujeres","13.7%","8.1%"]
[null,"Hombres","4.5%","3.0%"]
["Tasa neta de asistencia en educación en la modalidad básica regular (MINEDU, 2020)","Educación inicial","84.4",0.81200000000000006]
[null,"Educación primaria","97.8%",0.94399999999999995]
[null,"Educación secundaria",0.86,0.83499999999999996]
["Tasa de deserción escolar en la educación básica (MINEDU, 2020)","Total","5.7%",9.0999999999999998E-2]
["SALUD"]
[{"$f":"+'26_Regiones'!$H$7","v":"Adolescentes de 15 a 19 años de edad alguna vez embarazadas (ENDES, 2022)"},null,{"$f":"'26_Regiones'!H12","v":7.0659519055476225E-2},{"$f":"'26_Regiones'!$H$10","v":7.4999999999999997E-2}]
[{"$f":"+'26_Regiones'!$I$7","v":"Porcentaje de mujeres que usan métodos anticonceptivos (ENDES, 2022)"},null,{"$f":"'26_Regiones'!I12","v":0.78320784876899252},{"$f":"'26_Regiones'!$I$10","v":0.77900000000000003}]
[{"$f":"+'26_Regiones'!$J$7","v":"Porcentaje de mujeres con necesidad insatisfecha de planificación familiar (ENDES, 2022)"},null,{"$f":"'26_Regiones'!J12","v":4.8912131462421786E-2},{"$f":"'26_Regiones'!$J$10","v":5.8999999999999997E-2}]
["ECONOMÍA"]
["Porcentaje de mujeres jefas de hogar (ENAHO, 2020)",null,"17.09%","17.71%"]
["Tasa de actividad económica de mujeres y hombres (ENAHO, 2020)","Mujeres","57.47%",0.54510000000000003]
[null,"Hombres","78.42%",0.74970000000000003]
["Porcentaje de mujeres ocupadas, según sector económico (ENAHO, 2019)","A) Sector Primario","36.3%","21.4%"]
[null,"B) Sector Secundario","5.3%","8.6%"]
[null,"C) Sector Terciario","58.5%","70.0%"]
["Porcentaje de mujeres y hombres que acceden a un sistema de pensión (ENAHO, 2019)","Mujeres","23.25%",0.28789999999999999]
[null,"Hombres","41.27%",0.41699999999999998]
["Porcentaje de mujeres y hombres sin ingresos propios (ENAHO, 2020)","Mujeres","35.1%",0.36]
[null,"Hombres","17.9%",0.19700000000000001]
["PARTICIPACIÓN POLÍTICA"]
["Número de Alcaldes/as Provinciales y Distritales 2023-2026 (JNE, 2023)","A) Alcaldes Provinciales (20 Provincias)"]
[null,"Mujeres",1,{"$f":"+'26_Regiones'!U10","v":9}]
[null,"Hombres",19,{"$f":"+'26_Regiones'!V10","v":187}]
[null,"B) Alcaldes Distritales (146 Distritos)"]
[null,"Mujeres",6,{"$f":"+'26_Regiones'!W10","v":93}]
[null,"Hombres",140,{"$f":"+'26_Regiones'!X10","v":1601}]
["VIOLENCIA Y OTROS DELITOS"]
[{"$f":"+'26_Regiones'!$Y$7","v":"Violencia familiar contra la mujer ejercida alguna vez por el esposo o compañero (ENDES, 2022)"},"Total",{"$f":"'26_Regiones'!Y12","v":0.54726858238742715},{"$f":"'26_Regiones'!$Y$10","v":0.55700000000000005}]
[null,"Psicológica",{"$f":"'26_Regiones'!Z12","v":0.50304199592119703},{"$f":"'26_Regiones'!$Z$10","v":0.51900000000000002}]
[null,"Física",{"$f":"'26_Regiones'!AA12","v":0.25959946865505901},{"$f":"'26_Regiones'!$AA$10","v":0.27800000000000002}]
[null,"Sexual",{"$f":"'26_Regiones'!AB12","v":2.5959946865505902E-3},{"$f":"'26_Regiones'!$AB$10","v":6.7000000000000004E-2}]
[{"$f":"+'26_Regiones'!$AC$7","v":"Violencia física y/o sexual ejercida por el esposo o compañero en los últimos 12 meses (ENDES, 2022)"},null,{"$f":"'26_Regiones'!AC12","v":6.9000000000000006E-2},{"$f":"'26_Regiones'!$AC$10","v":8.5999999999999993E-2}]
["Mujeres víctimas del delito de trata de personas con denuncia registrada en la PNP (Ministerio Público, 2020)",null,3,342]
[{"$f":"+'26_Regiones'!AE7","v":"Número de casos de víctimas de feminicidio (Programa Aurora, Ene - May 2023)"},null,{"$f":"+'26_Regiones'!AE12","v":1},{"$f":"+'26_Regiones'!AE10","v":68}]
[]
["*Se han incluido indicadores claves con desagregado a nivel regional"]

{"sheet":"Apurimac","index":3,"n_rows":45,"n_cols":4,"rows_kept":45,"cut":false,"hidden":false,"merged":[[35,0,35,3],[36,0,39,0],[40,0,40,1],[41,0,41,1],[42,0,42,1],[21,0,23,0],[24,0,25,0],[26,0,27,0],[28,0,28,3],[29,0,34,0],[29,1,29,3],[32,1,32,3],[19,0,20,0],[3,0,3,3],[5,0,5,1],[6,0,6,3],[7,0,8,0],[9,0,11,0],[13,0,13,3],[14,0,14,1],[15,0,15,1],[16,0,16,1],[17,0,17,3],[18,0,18,1]]}
[]
[]
[]
["INDICADORES SOCIODEMOGRÁFICOS Y BRECHAS DE GÉNERO EN EL DEPARTAMENTO DE APURÍMAC"]
[]
["INDICADORES SOECIOENCÓMICOS *",null,"APURIMAC","NACIONAL"]
["EDUCACIÓN"]
["Tasa de analfabetismo de personas de 15 años a más (ENAHO, 2019)","Mujeres",20,"8.1%"]
[null,"Hombres","2021-08-05","3.0%"]
["Tasa neta de asistencia en educación en la modalidad básica regular (MINEDU, 2020)","Educación inicial",99,0.81200000000000006]
[null,"Educación primaria","97.7",0.94399999999999995]
[null,"Educación secundaria",0.87,0.83499999999999996]
["Tasa de deserción escolar en la educación básica (MINEDU, 2020)","Total","2021-01-01",9.0999999999999998E-2]
["SALUD"]
[{"$f":"+'26_Regiones'!$H$7","v":"Adolescentes de 15 a 19 años de edad alguna vez embarazadas (ENDES, 2022)"},null,{"$f":"'26_Regiones'!H13","v":5.6946371103113035E-2},{"$f":"'26_Regiones'!$H$10","v":7.4999999999999997E-2}]
[{"$f":"+'26_Regiones'!$I$7","v":"Porcentaje de mujeres que usan métodos anticonceptivos (ENDES, 2022)"},null,{"$f":"'26_Regiones'!I13","v":0.76538899054011},{"$f":"'26_Regiones'!$I$10","v":0.77900000000000003}]
[{"$f":"+'26_Regiones'!$J$7","v":"Porcentaje de mujeres con necesidad insatisfecha de planificación familiar (ENDES, 2022)"},null,{"$f":"'26_Regiones'!J13","v":5.5303622837597544E-2},{"$f":"'26_Regiones'!$J$10","v":5.8999999999999997E-2}]
["ECONOMÍA"]
["Porcentaje de mujeres jefas de hogar (ENAHO, 2020)",null,"14.53%","17.71%"]
["Tasa de actividad económica de mujeres y hombres (ENAHO, 2020)","Mujeres","72.89%",0.54510000000000003]
[null,"Hombres","85.70%",0.74970000000000003]
["Porcentaje de mujeres ocupadas, según sector económico (ENAHO, 2019)","A) Sector Primario","50.5","21.4%"]
[null,"B) Sector Secundario","2021-01-03","8.6%"]
[null,"C) Sector Terciario","46.4","70.0%"]
["Porcentaje de mujeres y hombres que están afiliados a un sistema de pensión (ENAHO, 2020)","Mujeres","8.53%",0.28789999999999999]
[null,"Hombres","22.74%",0.41699999999999998]
["Porcentaje de mujeres y hombres sin ingresos propios (ENAHO, 2020)","Mujeres","32.8%",0.36]
[null,"Hombres","12.1%",0.19700000000000001]
["PARTICIPACIÓN POLÍTICA"]
["Número de Alcaldes/as Provinciales y Distritales 2023-2026 (JNE, 2023)","A) Alcaldes Provinciales (7 Provincias)"]
[null,"Mujeres",0,9]
[null,"Hombres",7,187]
[null,"B) Alcaldes Distritales (78 Distritos)"]
[null,"Mujeres",3,93]
[null,"Hombres",75,1601]
["VIOLENCIA Y OTROS DELITOS"]
[{"$f":"+'26_Regiones'!$Y$7","v":"Violencia familiar contra la mujer ejercida alguna vez por el esposo o compañero (ENDES, 2022)"},"Total",{"$f":"'26_Regiones'!Y13","v":0.65283101691095813},{"$f":"'26_Regiones'!$Y$10","v":0.55700000000000005}]
[null,"Psicológica",{"$f":"'26_Regiones'!Z13","v":0.60733746243845399},{"$f":"'26_Regiones'!$Z$10","v":0.51900000000000002}]
[null,"Física",{"$f":"'26_Regiones'!AA13","v":0.36982048092688768},{"$f":"'26_Regiones'!$AA$10","v":0.27800000000000002}]
[null,"Sexual",{"$f":"'26_Regiones'!AB13","v":3.6982048092688768E-3},{"$f":"'26_Regiones'!$AB$10","v":6.7000000000000004E-2}]
[{"$f":"+'26_Regiones'!$AC$7","v":"Violencia física y/o sexual ejercida por el esposo o compañero en los últimos 12 meses (ENDES, 2022)"},null,{"$f":"'26_Regiones'!AC13","v":0.14369864427860213},{"$f":"'26_Regiones'!$AC$10","v":8.5999999999999993E-2}]
["Mujeres víctimas del delito de trata de personas con denuncia registrada en la PNP (Ministerio Público, 2020)",null,4,342]
[{"$f":"+'26_Regiones'!AE7","v":"Número de casos de víctimas de feminicidio (Programa Aurora, Ene - May 2023)"},null,{"$f":"+'26_Regiones'!AE13","v":1},{"$f":"+'26_Regiones'!AE10","v":68}]
[]
["*Se han incluido indicadores claves con desagregado a nivel regional"]

{"sheet":"Arequipa","index":4,"n_rows":45,"n_cols":4,"rows_kept":45,"cut":false,"hidden":false,"merged":[[35,0,35,3],[36,0,39,0],[40,0,40,1],[41,0,41,1],[42,0,42,1],[21,0,23,0],[24,0,25,0],[26,0,27,0],[28,0,28,3],[29,0,34,0],[29,1,29,3],[32,1,32,3],[19,0,20,0],[3,0,3,3],[5,0,5,1],[6,0,6,3],[7,0,8,0],[9,0,11,0],[13,0,13,3],[14,0,14,1],[15,0,15,1],[16,0,16,1],[17,0,17,3],[18,0,18,1]]}
[]
[]
[]
["INDICADORES SOCIODEMOGRÁFICOS Y BRECHAS DE GÉNERO EN EL DEPARTAMENTO DE AREQUIPA"]
[]
["INDICADORES SOECIOENCÓMICOS *",null,"AREQUIPA","NACIONAL"]
["EDUCACIÓN"]
["Tasa de analfabetismo de personas de 15 años a más (ENAHO, 2019)","Mujeres","4.7%","8.1%"]
[null,"Hombres","1.5%","3.0%"]
["Tasa neta de asistencia en educación en la modalidad básica regular (MINEDU, 2020)","Educación inicial","82.9%",0.81200000000000006]
[null,"Educación primaria","95.6%",0.94399999999999995]
[null,"Educación secundaria","90.2%",0.83499999999999996]
["Tasa de deserción escolar en la educación básica (MINEDU, 2020)","Total","3.8%",9.0999999999999998E-2]
["SALUD"]
[{"$f":"+'26_Regiones'!$H$7","v":"Adolescentes de 15 a 19 años de edad alguna vez embarazadas (ENDES, 2022)"},null,{"$f":"'26_Regiones'!H14","v":2.4331506724918666E-2},{"$f":"'26_Regiones'!$H$10","v":7.4999999999999997E-2}]
[{"$f":"+'26_Regiones'!$I$7","v":"Porcentaje de mujeres que usan métodos anticonceptivos (ENDES, 2022)"},null,{"$f":"'26_Regiones'!I14","v":0.79082873689267397},{"$f":"'26_Regiones'!$I$10","v":0.77900000000000003}]
[{"$f":"+'26_Regiones'!$J$7","v":"Porcentaje de mujeres con necesidad insatisfecha de planificación familiar (ENDES, 2022)"},null,{"$f":"'26_Regiones'!J14","v":6.3343047779595957E-2},{"$f":"'26_Regiones'!$J$10","v":5.8999999999999997E-2}]
["ECONOMÍA"]
["Porcentaje de mujeres jefas de hogar (ENAHO, 2020)",null,"20.53%","17.71%"]
["Tasa de actividad económica de mujeres y hombres (ENAHO, 2020)","Mujeres","48.24%",0.54510000000000003]
[null,"Hombres","70.18%",0.74970000000000003]
["Porcentaje de mujeres ocupadas, según sector económico (ENAHO, 2019)","A) Sector Primario","12.9%","21.4%"]
[null,"B) Sector Secundario","9.2%","8.6%"]
[null,"C) Sector Terciario","77.9%","70.0%"]
["Porcentaje de mujeres y hombres que acceden a un sistema de pensión (ENAHO, 2019)","Mujeres","39.01%",0.28789999999999999]
[null,"Hombres","53.53%",0.41699999999999998]
["Porcentaje de mujeres y hombres sin ingresos propios (ENAHO, 2020)","Mujeres","38.0%",0.36]
[null,"Hombres","22.3%",0.19700000000000001]
["PARTICIPACIÓN POLÍTICA"]
["Número de Alcaldes/as Provinciales y Distritales 2023-2026 (JNE, 2023)","A) Alcaldes Provinciales (8 Provincias)"]
[null,"Mujeres",0,9]
[null,"Hombres",8,187]
[null,"B) Alcaldes Distritales (101 Distritos)"]
[null,"Mujeres",6,93]
[null,"Hombres",95,1601]
["VIOLENCIA Y OTROS DELITOS"]
[{"$f":"+'26_Regiones'!$Y$7","v":"Violencia familiar contra la mujer ejercida alguna vez por el esposo o compañero (ENDES, 2022)"},"Total",{"$f":"'26_Regiones'!Y14","v":0.58967015145332558},{"$f":"'26_Regiones'!$Y$10","v":0.55700000000000005}]
[null,"Psicológica",{"$f":"'26_Regiones'!Z14","v":0.54966029154617946},{"$f":"'26_Regiones'!$Z$10","v":0.51900000000000002}]
[null,"Física",{"$f":"'26_Regiones'!AA14","v":0.32101524959743971},{"$f":"'26_Regiones'!$AA$10","v":0.27800000000000002}]
[null,"Sexual",{"$f":"'26_Regiones'!AB14","v":3.2101524959743969E-3},{"$f":"'26_Regiones'!$AB$10","v":6.7000000000000004E-2}]
[{"$f":"+'26_Regiones'!$AC$7","v":"Violencia física y/o sexual ejercida por el esposo o compañero en los últimos 12 meses (ENDES, 2022)"},null,{"$f":"'26_Regiones'!AC14","v":0.13535981236532352},{"$f":"'26_Regiones'!$AC$10","v":8.5999999999999993E-2}]
["Mujeres víctimas del delito de trata de personas con denuncia registrada en la PNP (Ministerio Público, 2020)",null,13,342]
[{"$f":"+'26_Regiones'!AE7","v":"Número de casos de víctimas de feminicidio (Programa Aurora, Ene - May 2023)"},null,{"$f":"+'26_Regiones'!AE14","v":12},{"$f":"+'26_Regiones'!AE10","v":68}]
[]
["*Se han incluido indicadores claves con desagregado a nivel regional"]

{"sheet":"Ayacucho","index":5,"n_rows":45,"n_cols":4,"rows_kept":45,"cut":false,"hidden":false,"merged":[[35,0,35,3],[36,0,39,0],[40,0,40,1],[41,0,41,1],[42,0,42,1],[21,0,23,0],[24,0,25,0],[26,0,27,0],[28,0,28,3],[29,0,34,0],[29,1,29,3],[32,1,32,3],[19,0,20,0],[3,0,3,3],[5,0,5,1],[6,0,6,3],[7,0,8,0],[9,0,11,0],[13,0,13,3],[14,0,14,1],[15,0,15,1],[16,0,16,1],[17,0,17,3],[18,0,18,1]]}
[]
[]
[]
["INDICADORES SOCIODEMOGRÁFICOS Y BRECHAS DE GÉNERO EN EL DEPARTAMENTO DE AYACUCHO"]
[]
["INDICADORES SOECIOENCÓMICOS *",null,"AYACUCHO","NACIONAL"]
["EDUCACIÓN"]
["Tasa de analfabetismo de personas de 15 años a más (ENAHO, 2019)","Mujeres",0.185,"8.1%"]
[null,"Hombres",5.0999999999999997E-2,"3.0%"]
["Tasa neta de asistencia en educación en la modalidad básica regular (MINEDU, 2020)","Educación inicial",0.84299999999999997,0.81200000000000006]
[null,"Educación primaria",0.96499999999999997,0.94399999999999995]
[null,"Educación secundaria",0.84599999999999997,0.83499999999999996]
["Tasa de deserción escolar en la educación básica (MINEDU, 2020)","Total",9.1999999999999998E-2,9.0999999999999998E-2]
["SALUD"]
[{"$f":"+'26_Regiones'!$H$7","v":"Adolescentes de 15 a 19 años de edad alguna vez embarazadas (ENDES, 2022)"},null,{"$f":"'26_Regiones'!H15","v":7.8982013167071333E-2},{"$f":"'26_Regiones'!$H$10","v":7.4999999999999997E-2}]
[{"$f":"+'26_Regiones'!$I$7","v":"Porcentaje de mujeres que usan métodos anticonceptivos (ENDES, 2022)"},null,{"$f":"'26_Regiones'!I15","v":0.77400429830322126},{"$f":"'26_Regiones'!$I$10","v":0.77900000000000003}]
[{"$f":"+'26_Regiones'!$J$7","v":"Porcentaje de mujeres con necesidad insatisfecha de planificación familiar (ENDES, 2022)"},null,{"$f":"'26_Regiones'!J15","v":5.385584465845776E-2},{"$f":"'26_Regiones'!$J$10","v":5.8999999999999997E-2}]
["ECONOMÍA"]
["Porcentaje de mujeres jefas de hogar (ENAHO, 2020)",null,0.20630000000000001,0.39589999999999997]
["Tasa de actividad económica de mujeres y hombres (ENAHO, 2020)","Mujeres",0.61050000000000004,0.54510000000000003]
[null,"Hombres",0.81679999999999997,0.74970000000000003]
["Porcentaje de mujeres ocupadas, según sector económico (ENAHO, 2019)","A) Sector Primario",0.46200000000000002,"21.4%"]
[null,"B) Sector Secundario",3.2000000000000001E-2,"8.6%"]
[null,"C) Sector Terciario",0.50600000000000001,"70.0%"]
["Porcentaje de mujeres y hombres que están afiliados a un sistema de pensión (ENAHO, 2020)","Mujeres",0.1258,0.28789999999999999]
[null,"Hombres",0.25380000000000003,0.41699999999999998]
["Porcentaje de mujeres y hombres sin ingresos propios (ENAHO, 2020)","Mujeres",0.31900000000000001,0.36]
[null,"Hombres",0.155,0.19700000000000001]
["PARTICIPACIÓN POLÍTICA"]
["Número de Alcaldes/as Provinciales y Distritales 2023-2026 (JNE, 2023)","A) Alcaldes Provinciales (11 Provincias)"]
[null,"Mujeres",0,9]
[null,"Hombres",11,187]
[null,"B) Alcaldes Distritales (113 Distritos)"]
[null,"Mujeres",4,93]
[null,"Hombres",109,1601]
["VIOLENCIA Y OTROS DELITOS"]
[{"$f":"+'26_Regiones'!$Y$7","v":"Violencia familiar contra la mujer ejercida alguna vez por el esposo o compañero (ENDES, 2022)"},"Total",{"$f":"'26_Regiones'!Y15","v":0.53147797282047371},{"$f":"'26_Regiones'!$Y$10","v":0.55700000000000005}]
[null,"Psicológica",{"$f":"'26_Regiones'!Z15","v":0.45693012828620616},{"$f":"'26_Regiones'!$Z$10","v":0.51900000000000002}]
[null,"Física",{"$f":"'26_Regiones'!AA15","v":0.34119843822091794},{"$f":"'26_Regiones'!$AA$10","v":0.27800000000000002}]
[null,"Sexual",{"$f":"'26_Regiones'!AB15","v":3.4119843822091795E-3},{"$f":"'26_Regiones'!$AB$10","v":6.7000000000000004E-2}]
[{"$f":"+'26_Regiones'!$AC$7","v":"Violencia física y/o sexual ejercida por el esposo o compañero en los últimos 12 meses (ENDES, 2022)"},null,{"$f":"'26_Regiones'!AC15","v":7.9111808055865582E-2},{"$f":"'26_Regiones'!$AC$10","v":8.5999999999999993E-2}]
["Mujeres víctimas del delito de trata de personas con denuncia registrada en la PNP (Ministerio Público, 2020)",null,3,342]
[{"$f":"+'26_Regiones'!AE7","v":"Número de casos de víctimas de feminicidio (Programa Aurora, Ene - May 2023)"},null,{"$f":"+'26_Regiones'!AE15","v":2},{"$f":"+'26_Regiones'!AE10","v":68}]
[]
["*Se han incluido indicadores claves con desagregado a nivel regional"]

{"sheet":"Cajamarca","index":6,"n_rows":45,"n_cols":4,"rows_kept":45,"cut":false,"hidden":false,"merged":[[35,0,35,3],[36,0,39,0],[40,0,40,1],[41,0,41,1],[42,0,42,1],[21,0,23,0],[24,0,25,0],[26,0,27,0],[28,0,28,3],[29,0,34,0],[29,1,29,3],[32,1,32,3],[19,0,20,0],[3,0,3,3],[5,0,5,1],[6,0,6,3],[7,0,8,0],[9,0,11,0],[13,0,13,3],[14,0,14,1],[15,0,15,1],[16,0,16,1],[17,0,17,3],[18,0,18,1]]}
[]
[]
[]
["INDICADORES SOCIODEMOGRÁFICOS Y BRECHAS DE GÉNERO EN EL DEPARTAMENTO DE CAJAMARCA"]
[]
["INDICADORES SOECIOENCÓMICOS *",null,"CAJAMARCA","NACIONAL"]
["EDUCACIÓN"]
["Tasa de analfabetismo de personas de 15 años a más (ENAHO, 2019)","Mujeres","17.9%","8.1%"]
[null,"Hombres","6.5%","3.0%"]
["Tasa neta de asistencia en educación en la modalidad básica regular (MINEDU, 2020)","Educación inicial","89.2%",0.81200000000000006]
[null,"Educación primaria","97.8%",0.94399999999999995]
[null,"Educación secundaria","84.6%",0.83499999999999996]
["Tasa de deserción escolar en la educación básica (MINEDU, 2020)","Total","9.6%",9.0999999999999998E-2]
["SALUD"]
[{"$f":"+'26_Regiones'!$H$7","v":"Adolescentes de 15 a 19 años de edad alguna vez embarazadas (ENDES, 2022)"},null,{"$f":"'26_Regiones'!H16","v":0.12972937287597378},{"$f":"'26_Regiones'!$H$10","v":7.4999999999999997E-2}]
[{"$f":"+'26_Regiones'!$I$7","v":"Porcentaje de mujeres que usan métodos anticonceptivos (ENDES, 2022)"},null,{"$f":"'26_Regiones'!I16","v":0.79596101026638666},{"$f":"'26_Regiones'!$I$10","v":0.77900000000000003}]
[{"$f":"+'26_Regiones'!$J$7","v":"Porcentaje de mujeres con necesidad insatisfecha de planificación familiar (ENDES, 2022)"},null,{"$f":"'26_Regiones'!J16","v":5.2108998107000343E-2},{"$f":"'26_Regiones'!$J$10","v":5.8999999999999997E-2}]
["ECONOMÍA"]
["Porcentaje de mujeres jefas de hogar (ENAHO, 2020)",null,"16.19%","17.71%"]
["Tasa de actividad económica de mujeres y hombres (ENAHO, 2020)","Mujeres","70.07%",0.54510000000000003]
[null,"Hombres","86.40%",0.74970000000000003]
["Porcentaje de mujeres ocupadas, según sector económico (ENAHO, 2019)","A) Sector Primario","52.9%","21.4%"]
[null,"B) Sector Secundario","10.3%","8.6%"]
[null,"C) Sector Terciario","36.8%","70.0%"]
["Porcentaje de mujeres y hombres que acceden a un sistema de pensión (ENAHO, 2019)","Mujeres","11.01%",0.28789999999999999]
[null,"Hombres","23.01%",0.41699999999999998]
["Porcentaje de mujeres y hombres sin ingresos propios (ENAHO, 2020)","Mujeres","31.5%",0.36]
[null,"Hombres","14.2%",0.19700000000000001]
["PARTICIPACIÓN POLÍTICA"]
["Número de Alcaldes/as Provinciales y Distritales 2023-2026 (JNE, 2023)","A) Alcaldes Provinciales (13 Provincias)"]
[null,"Mujeres",0,9]
[null,"Hombres",13,187]
[null,"B) Alcaldes Distritales (114 Distritos)"]
[null,"Mujeres",3,93]
[null,"Hombres",111,1601]
["VIOLENCIA Y OTROS DELITOS"]
[{"$f":"+'26_Regiones'!$Y$7","v":"Violencia familiar contra la mujer ejercida alguna vez por el esposo o compañero (ENDES, 2022)"},"Total",{"$f":"'26_Regiones'!Y16","v":0.51316699915128894},{"$f":"'26_Regiones'!$Y$10","v":0.55700000000000005}]
[null,"Psicológica",{"$f":"'26_Regiones'!Z16","v":0.48910517247243007},{"$f":"'26_Regiones'!$Z$10","v":0.51900000000000002}]
[null,"Física",{"$f":"'26_Regiones'!AA16","v":0.23215833275683942},{"$f":"'26_Regiones'!$AA$10","v":0.27800000000000002}]
[null,"Sexual",{"$f":"'26_Regiones'!AB16","v":2.3215833275683942E-3},{"$f":"'26_Regiones'!$AB$10","v":6.7000000000000004E-2}]
[{"$f":"+'26_Regiones'!$AC$7","v":"Violencia física y/o sexual ejercida por el esposo o compañero en los últimos 12 meses (ENDES, 2022)"},null,{"$f":"'26_Regiones'!AC16","v":8.4000000000000005E-2},{"$f":"'26_Regiones'!$AC$10","v":8.5999999999999993E-2}]
["Mujeres víctimas del delito de trata de personas con denuncia registrada en la PNP (Ministerio Público, 2020)",null,6,342]
[{"$f":"+'26_Regiones'!AE7","v":"Número de casos de víctimas de feminicidio (Programa Aurora, Ene - May 2023)"},null,{"$f":"+'26_Regiones'!AE16","v":6},{"$f":"+'26_Regiones'!AE10","v":68}]
[]
["*Se han incluido indicadores claves con desagregado a nivel regional"]

{"sheet":"Callao","index":7,"n_rows":45,"n_cols":4,"rows_kept":45,"cut":false,"hidden":false,"merged":[[35,0,35,3],[36,0,39,0],[40,0,40,1],[41,0,41,1],[42,0,42,1],[21,0,23,0],[24,0,25,0],[26,0,27,0],[28,0,28,3],[29,0,34,0],[29,1,29,3],[32,1,32,3],[19,0,20,0],[3,0,3,3],[5,0,5,1],[6,0,6,3],[7,0,8,0],[9,0,11,0],[13,0,13,3],[14,0,14,1],[15,0,15,1],[16,0,16,1],[17,0,17,3],[18,0,18,1]]}
[]
[]
[]
["INDICADORES SOCIODEMOGRÁFICOS Y BRECHAS DE GÉNERO - PROVINCIA CONSTITUCIONAL DEL CALLAO"]
[]
["INDICADORES SOECIOENCÓMICOS *",null,"CALLAO","NACIONAL"]
["EDUCACIÓN"]
["Tasa de analfabetismo de personas de 15 años a más (ENAHO, 2019)","Mujeres","3.1%","8.1%"]
[null,"Hombres","0.6%","3.0%"]
["Tasa neta de asistencia en educación en la modalidad básica regular (MINEDU, 2020)","Educación inicial","80.6%",0.81200000000000006]
[null,"Educación primaria","91.2%",0.94399999999999995]
[null,"Educación secundaria","84.5%",0.83499999999999996]
["Tasa de deserción escolar en la educación básica (MINEDU, 2020)","Total","5.3%",9.0999999999999998E-2]
["SALUD"]
[{"$f":"+'26_Regiones'!$H$7","v":"Adolescentes de 15 a 19 años de edad alguna vez embarazadas (ENDES, 2022)"},null,{"$f":"'26_Regiones'!H17","v":6.1056090154752447E-2},{"$f":"'26_Regiones'!$H$10","v":7.4999999999999997E-2}]
[{"$f":"+'26_Regiones'!$I$7","v":"Porcentaje de mujeres que usan métodos anticonceptivos (ENDES, 2022)"},null,{"$f":"'26_Regiones'!I17","v":0.73980394920224346},{"$f":"'26_Regiones'!$I$10","v":0.77900000000000003}]
[{"$f":"+'26_Regiones'!$J$7","v":"Porcentaje de mujeres con necesidad insatisfecha de planificación familiar (ENDES, 2022)"},null,{"$f":"'26_Regiones'!J17","v":7.1543511266531495E-2},{"$f":"'26_Regiones'!$J$10","v":5.8999999999999997E-2}]
["ECONOMÍA"]
["Porcentaje de mujeres jefas de hogar (ENAHO, 2020)",null,"20.94%","17.71%"]
["Tasa de actividad económica de mujeres y hombres (ENAHO, 2020)","Mujeres","45.67%",0.54510000000000003]
[null,"Hombres","67.49%",0.74970000000000003]
["Porcentaje de mujeres ocupadas, según sector económico (ENAHO, 2019)","A) Sector Primario","0.5%","21.4%"]
[null,"B) Sector Secundario",0.1,"8.6%"]
[null,"C) Sector Terciario","89.5%","70.0%"]
["Porcentaje de mujeres y hombres que acceden a un sistema de pensión (ENAHO, 2019)","Mujeres","46.85%",0.28789999999999999]
[null,"Hombres","62.06%",0.41699999999999998]
["Porcentaje de mujeres y hombres sin ingresos propios (ENAHO, 2020)","Mujeres","40.9%",0.36]
[null,"Hombres","23.8%",0.19700000000000001]
["PARTICIPACIÓN POLÍTICA"]
["Número de Alcaldes/as Provinciales y Distritales 2023-2026 (JNE, 2023)","A) Alcalde Provincial (1 Provincia)"]
[null,"Mujeres",0,9]
[null,"Hombres",1,187]
[null,"B) Alcaldes Distritales (6 Distritos)"]
[null,"Mujeres",0,93]
[null,"Hombres",6,1601]
["VIOLENCIA Y OTROS DELITOS"]
[{"$f":"+'26_Regiones'!$Y$7","v":"Violencia familiar contra la mujer ejercida alguna vez por el esposo o compañero (ENDES, 2022)"},"Total",{"$f":"'26_Regiones'!Y17","v":0.56477777168702314},{"$f":"'26_Regiones'!$Y$10","v":0.55700000000000005}]
[null,"Psicológica",{"$f":"'26_Regiones'!Z17","v":0.5337890716416166},{"$f":"'26_Regiones'!$Z$10","v":0.51900000000000002}]
[null,"Física",{"$f":"'26_Regiones'!AA17","v":0.25211533648101059},{"$f":"'26_Regiones'!$AA$10","v":0.27800000000000002}]
[null,"Sexual",{"$f":"'26_Regiones'!AB17","v":2.5211533648101057E-3},{"$f":"'26_Regiones'!$AB$10","v":6.7000000000000004E-2}]
[{"$f":"+'26_Regiones'!$AC$7","v":"Violencia física y/o sexual ejercida por el esposo o compañero en los últimos 12 meses (ENDES, 2022)"},null,{"$f":"'26_Regiones'!AC17","v":7.2999999999999995E-2},{"$f":"'26_Regiones'!$AC$10","v":8.5999999999999993E-2}]
["Mujeres víctimas del delito de trata de personas con denuncia registrada en la PNP (Ministerio Público, 2020)",null,4,342]
[{"$f":"+'26_Regiones'!AE7","v":"Número de casos de víctimas de feminicidio (Programa Aurora, Ene - May 2023)"},null,{"$f":"+'26_Regiones'!AE17","v":1},{"$f":"+'26_Regiones'!AE10","v":68}]
[]
["*Se han incluido indicadores claves con desagregado a nivel regional"]

{"sheet":"Cusco","index":8,"n_rows":45,"n_cols":4,"rows_kept":45,"cut":false,"hidden":false,"merged":[[35,0,35,3],[36,0,39,0],[40,0,40,1],[41,0,41,1],[42,0,42,1],[21,0,23,0],[24,0,25,0],[26,0,27,0],[28,0,28,3],[29,0,34,0],[29,1,29,3],[32,1,32,3],[19,0,20,0],[3,0,3,3],[5,0,5,1],[6,0,6,3],[7,0,8,0],[9,0,11,0],[13,0,13,3],[14,0,14,1],[15,0,15,1],[16,0,16,1],[17,0,17,3],[18,0,18,1]]}
[]
[]
[]
["INDICADORES SOCIODEMOGRÁFICOS Y BRECHAS DE GÉNERO EN EL DEPARTAMENTO DE CUSCO"]
[]
["INDICADORES SOECIOENCÓMICOS *",null,"CUSCO","NACIONAL"]
["EDUCACIÓN"]
["Tasa de analfabetismo de personas de 15 años a más (ENAHO, 2019)","Mujeres",0.16,"8.1%"]
[null,"Hombres",3.7999999999999999E-2,"3.0%"]
["Tasa neta de asistencia en educación en la modalidad básica regular (MINEDU, 2020)","Educación inicial",0.84399999999999997,0.81200000000000006]
[null,"Educación primaria",0.98799999999999999,0.94399999999999995]
[null,"Educación secundaria",0.89800000000000002,0.83499999999999996]
["Tasa de deserción escolar en la educación básica (MINEDU, 2020)","Total",4.7E-2,9.0999999999999998E-2]
["SALUD"]
[{"$f":"+'26_Regiones'!$H$7","v":"Adolescentes de 15 a 19 años de edad alguna vez embarazadas (ENDES, 2022)"},null,{"$f":"'26_Regiones'!H18","v":8.8971390375044965E-2},{"$f":"'26_Regiones'!$H$10","v":7.4999999999999997E-2}]
[{"$f":"+'26_Regiones'!$I$7","v":"Porcentaje de mujeres que usan métodos anticonceptivos (ENDES, 2022)"},null,{"$f":"'26_Regiones'!I18","v":0.75413871958296508},{"$f":"'26_Regiones'!$I$10","v":0.77900000000000003}]
[{"$f":"+'26_Regiones'!$J$7","v":"Porcentaje de mujeres con necesidad insatisfecha de planificación familiar (ENDES, 2022)"},null,{"$f":"'26_Regiones'!J18","v":7.6008494340018537E-2},{"$f":"'26_Regiones'!$J$10","v":5.8999999999999997E-2}]
["ECONOMÍA"]
["Porcentaje de mujeres jefas de hogar (ENAHO, 2020)",null,0.1966,0.39589999999999997]
["Tasa de actividad económica de mujeres y hombres (ENAHO, 2020)","Mujeres",0.6996,0.54510000000000003]
[null,"Hombres",0.78669999999999995,0.74970000000000003]
["Porcentaje de mujeres ocupadas, según sector económico (ENAHO, 2019)","A) Sector Primario",0.40799999999999997,"21.4%"]
[null,"B) Sector Secundario",6.0999999999999999E-2,"8.6%"]
[null,"C) Sector Terciario",0.53100000000000003,"70.0%"]
["Porcentaje de mujeres y hombres que están afiliados a un sistema de pensión (ENAHO, 2020)","Mujeres",0.11260000000000001,0.28789999999999999]
[null,"Hombres",0.2487,0.41699999999999998]
["Porcentaje de mujeres y hombres sin ingresos propios (ENAHO, 2020)","Mujeres",0.30299999999999999,0.36]
[null,"Hombres",0.17899999999999999,0.19700000000000001]
["PARTICIPACIÓN POLÍTICA"]
["Número de Alcaldes/as Provinciales y Distritales 2023-2026 (JNE, 2023)","A) Alcaldes Provinciales (13 Provincias)"]
[null,"Mujeres",2,9]
[null,"Hombres",11,187]
[null,"B) Alcaldes Distritales (103 Distritos)"]
[null,"Mujeres",7,93]
[null,"Hombres",96,1601]
["VIOLENCIA Y OTROS DELITOS"]
[{"$f":"+'26_Regiones'!$Y$7","v":"Violencia familiar contra la mujer ejercida alguna vez por el esposo o compañero (ENDES, 2022)"},"Total",{"$f":"'26_Regiones'!Y18","v":0.60438685950061333},{"$f":"'26_Regiones'!$Y$10","v":0.55700000000000005}]
[null,"Psicológica",{"$f":"'26_Regiones'!Z18","v":0.57467003010632178},{"$f":"'26_Regiones'!$Z$10","v":0.51900000000000002}]
[null,"Física",{"$f":"'26_Regiones'!AA18","v":0.35942171205372092},{"$f":"'26_Regiones'!$AA$10","v":0.27800000000000002}]
[null,"Sexual",{"$f":"'26_Regiones'!AB18","v":3.5942171205372094E-3},{"$f":"'26_Regiones'!$AB$10","v":6.7000000000000004E-2}]
[{"$f":"+'26_Regiones'!$AC$7","v":"Violencia física y/o sexual ejercida por el esposo o compañero en los últimos 12 meses (ENDES, 2022)"},null,{"$f":"'26_Regiones'!AC18","v":0.15480621496382824},{"$f":"'26_Regiones'!$AC$10","v":8.5999999999999993E-2}]
["Mujeres víctimas del delito de trata de personas con denuncia registrada en la PNP (Ministerio Público, 2020)",null,19,342]
[{"$f":"+'26_Regiones'!AE7","v":"Número de casos de víctimas de feminicidio (Programa Aurora, Ene - May 2023)"},null,{"$f":"+'26_Regiones'!AE18","v":4},{"$f":"+'26_Regiones'!AE10","v":68}]
[]
["*Se han incluido indicadores claves con desagregado a nivel regional"]

{"sheet":"Huancavelica","index":9,"n_rows":46,"n_cols":4,"rows_kept":46,"cut":false,"hidden":false,"merged":[[36,0,36,3],[37,0,40,0],[41,0,41,1],[42,0,42,1],[43,0,43,1],[30,0,35,0],[30,1,30,3],[33,1,33,3],[14,0,14,3],[15,0,15,1],[16,0,16,1],[17,0,17,1],[18,0,18,3],[19,0,19,1],[20,0,21,0],[22,0,24,0],[25,0,26,0],[27,0,28,0],[29,0,29,3],[10,0,12,0],[4,0,4,3],[5,0,5,3],[6,0,6,1],[7,0,7,3],[8,0,9,0]]}
[]
[]
[]
[]
["INDICADORES SOCIODEMOGRÁFICOS Y BRECHAS DE GÉNERO EN EL DEPARTAMENTO DE HUANCAVELICA"]
[]
["INDICADORES SOECIOENCÓMICOS *",null,"HUANCAVELICA","NACIONAL"]
["EDUCACIÓN"]
["Tasa de analfabetismo de personas de 15 años a más (ENAHO, 2019)","Mujeres","19.2%","8.1%"]
[null,"Hombres","5.9%","3.0%"]
["Tasa neta de asistencia en educación en la modalidad básica regular (MINEDU, 2020)","Educación inicial","93.7%",0.81200000000000006]
[null,"Educación primaria","97.5%",0.94399999999999995]
[null,"Educación secundaria","88.4%",0.83499999999999996]
["Tasa de deserción escolar en la educación básica (MINEDU, 2020)","Total","4.1%",9.0999999999999998E-2]
["SALUD"]
[{"$f":"+'26_Regiones'!$H$7","v":"Adolescentes de 15 a 19 años de edad alguna vez embarazadas (ENDES, 2022)"},null,{"$f":"'26_Regiones'!H19","v":0.14846734665959313},{"$f":"'26_Regiones'!$H$10","v":7.4999999999999997E-2}]
[{"$f":"+'26_Regiones'!$I$7","v":"Porcentaje de mujeres que usan métodos anticonceptivos (ENDES, 2022)"},null,{"$f":"'26_Regiones'!I19","v":0.78906615336926289},{"$f":"'26_Regiones'!$I$10","v":0.77900000000000003}]
[{"$f":"+'26_Regiones'!$J$7","v":"Porcentaje de mujeres con necesidad insatisfecha de planificación familiar (ENDES, 2022)"},null,{"$f":"'26_Regiones'!J19","v":6.1437045572177815E-2},{"$f":"'26_Regiones'!$J$10","v":5.8999999999999997E-2}]
["ECONOMÍA"]
["Porcentaje de mujeres jefas de hogar (ENAHO, 2020)",null,"15.12%","17.71%"]
["Tasa de actividad económica de mujeres y hombres (ENAHO, 2020)","Mujeres","81.24%",0.54510000000000003]
[null,"Hombres","90.75%",0.74970000000000003]
["Porcentaje de mujeres ocupadas, según sector económico (ENAHO, 2019)","A) Sector Primario","58.7%","21.4%"]
[null,"B) Sector Secundario","7.5%","8.6%"]
[null,"C) Sector Terciario","33.8%","70.0%"]
["Porcentaje de mujeres y hombres que acceden a un sistema de pensión (ENAHO, 2019)","Mujeres","6.78%",0.28789999999999999]
[null,"Hombres","24.26%",0.41699999999999998]
["Porcentaje de mujeres y hombres sin ingresos propios (ENAHO, 2020)","Mujeres","27.3%",0.36]
[null,"Hombres","10.8%",0.19700000000000001]
["PARTICIPACIÓN POLÍTICA"]
["Número de Alcaldes/as Provinciales y Distritales 2023-2026 (JNE, 2023)","A) Alcaldes Provinciales (7 Provincias)"]
[null,"Mujeres",0,9]
[null,"Hombres",7,187]
[null,"B) Alcaldes Distritales (95 Distritos)"]
[null,"Mujeres",3,93]
[null,"Hombres",92,1601]
["VIOLENCIA Y OTROS DELITOS"]
[{"$f":"+'26_Regiones'!$Y$7","v":"Violencia familiar contra la mujer ejercida alguna vez por el esposo o compañero (ENDES, 2022)"},"Total",{"$f":"'26_Regiones'!Y19","v":0.5819653040763666},{"$f":"'26_Regiones'!$Y$10","v":0.55700000000000005}]
[null,"Psicológica",{"$f":"'26_Regiones'!Z19","v":0.53455807839150338},{"$f":"'26_Regiones'!$Z$10","v":0.51900000000000002}]
[null,"Física",{"$f":"'26_Regiones'!AA19","v":0.33824377832122382},{"$f":"'26_Regiones'!$AA$10","v":0.27800000000000002}]
[null,"Sexual",{"$f":"'26_Regiones'!AB19","v":3.3824377832122384E-3},{"$f":"'26_Regiones'!$AB$10","v":6.7000000000000004E-2}]
[{"$f":"+'26_Regiones'!$AC$7","v":"Violencia física y/o sexual ejercida por el esposo o compañero en los últimos 12 meses (ENDES, 2022)"},null,{"$f":"'26_Regiones'!AC19","v":0.12883147090097316},{"$f":"'26_Regiones'!$AC$10","v":8.5999999999999993E-2}]
["Mujeres víctimas del delito de trata de personas con denuncia registrada en la PNP (Ministerio Público, 2020)",null,1,342]
[{"$f":"+'26_Regiones'!AE7","v":"Número de casos de víctimas de feminicidio (Programa Aurora, Ene - May 2023)"},null,{"$f":"+'26_Regiones'!AE19","v":2},{"$f":"+'26_Regiones'!AE10","v":68}]
[]
["*Se han incluido indicadores claves con desagregado a nivel regional"]

{"sheet":"Huanuco","index":10,"n_rows":46,"n_cols":4,"rows_kept":46,"cut":false,"hidden":false,"merged":[[36,0,36,3],[37,0,40,0],[41,0,41,1],[42,0,42,1],[43,0,43,1],[22,0,24,0],[25,0,26,0],[27,0,28,0],[29,0,29,3],[30,0,35,0],[30,1,30,3],[33,1,33,3],[20,0,21,0],[4,0,4,3],[6,0,6,1],[7,0,7,3],[8,0,9,0],[10,0,12,0],[14,0,14,3],[15,0,15,1],[16,0,16,1],[17,0,17,1],[18,0,18,3],[19,0,19,1]]}
[]
[]
[]
[]
["INDICADORES SOCIODEMOGRÁFICOS Y BRECHAS DE GÉNERO EN EL DEPARTAMENTO DE HUÁNUCO"]
[]
["INDICADORES SOECIOENCÓMICOS *",null,"HUÁNUCO","NACIONAL"]
["EDUCACIÓN"]
["Tasa de analfabetismo de personas de 15 años a más (ENAHO, 2019)","Mujeres","2021-01-20","8.1%"]
[null,"Hombres","2021-02-07","3.0%"]
["Tasa neta de asistencia en educación en la modalidad básica regular (MINEDU, 2020)","Educación inicial","82.2",0.81200000000000006]
[null,"Educación primaria","97.5",0.94399999999999995]
[null,"Educación secundaria","79.8",0.83499999999999996]
["Tasa de deserción escolar en la educación básica (MINEDU, 2020)","Total","2021-09-05",9.0999999999999998E-2]
["SALUD"]
[{"$f":"+'26_Regiones'!$H$7","v":"Adolescentes de 15 a 19 años de edad alguna vez embarazadas (ENDES, 2022)"},null,{"$f":"'26_Regiones'!H20","v":0.10867580665521891},{"$f":"'26_Regiones'!$H$10","v":7.4999999999999997E-2}]
[{"$f":"+'26_Regiones'!$I$7","v":"Porcentaje de mujeres que usan métodos anticonceptivos (ENDES, 2022)"},null,{"$f":"'26_Regiones'!I20","v":0.74465743514518734},{"$f":"'26_Regiones'!$I$10","v":0.77900000000000003}]
[{"$f":"+'26_Regiones'!$J$7","v":"Porcentaje de mujeres con necesidad insatisfecha de planificación familiar (ENDES, 2022)"},null,{"$f":"'26_Regiones'!J20","v":8.2726847412538038E-2},{"$f":"'26_Regiones'!$J$10","v":5.8999999999999997E-2}]
["ECONOMÍA"]
["Porcentaje de mujeres jefas de hogar (ENAHO, 2020)",null,"16.54%","17.71%"]
["Tasa de actividad económica de mujeres y hombres (ENAHO, 2020)","Mujeres","62.05%",0.54510000000000003]
[null,"Hombres","81.56%",0.74970000000000003]
["Porcentaje de mujeres ocupadas, según sector económico (ENAHO, 2019)","A) Sector Primario","40.6","21.4%"]
[null,"B) Sector Secundario","2021-02-07","8.6%"]
[null,"C) Sector Terciario","52.2","70.0%"]
["Porcentaje de mujeres y hombres que están afiliados a un sistema de pensión (ENAHO, 2020)","Mujeres","12.66%",0.28789999999999999]
[null,"Hombres","20.28%",0.41699999999999998]
["Porcentaje de mujeres y hombres sin ingresos propios (ENAHO, 2020)","Mujeres","33.2%",0.36]
[null,"Hombres","15.0%",0.19700000000000001]
["PARTICIPACIÓN POLÍTICA"]
["Número de Alcaldes/as Provinciales y Distritales 2023-2026 (JNE, 2023)","A) Alcaldes Provinciales (11 Provincias)"]
[null,"Mujeres",0,9]
[null,"Hombres",11,187]
[null,"B) Alcaldes Distritales (73 Distritos)"]
[null,"Mujeres",6,93]
[null,"Hombres",67,1601]
["VIOLENCIA Y OTROS DELITOS"]
[{"$f":"+'26_Regiones'!$Y$7","v":"Violencia familiar contra la mujer ejercida alguna vez por el esposo o compañero (ENDES, 2022)"},"Total",{"$f":"'26_Regiones'!Y20","v":0.47074225556467492},{"$f":"'26_Regiones'!$Y$10","v":0.55700000000000005}]
[null,"Psicológica",{"$f":"'26_Regiones'!Z20","v":0.41654994181442456},{"$f":"'26_Regiones'!$Z$10","v":0.51900000000000002}]
[null,"Física",{"$f":"'26_Regiones'!AA20","v":0.24693844863537506},{"$f":"'26_Regiones'!$AA$10","v":0.27800000000000002}]
[null,"Sexual",{"$f":"'26_Regiones'!AB20","v":2.4693844863537505E-3},{"$f":"'26_Regiones'!$AB$10","v":6.7000000000000004E-2}]
[{"$f":"+'26_Regiones'!$AC$7","v":"Violencia física y/o sexual ejercida por el esposo o compañero en los últimos 12 meses (ENDES, 2022)"},null,{"$f":"'26_Regiones'!AC20","v":6.3E-2},{"$f":"'26_Regiones'!$AC$10","v":8.5999999999999993E-2}]
["Mujeres víctimas del delito de trata de personas con denuncia registrada en la PNP (Ministerio Público, 2020)",null,12,342]
[{"$f":"+'26_Regiones'!AE7","v":"Número de casos de víctimas de feminicidio (Programa Aurora, Ene - May 2023)"},null,{"$f":"+'26_Regiones'!AE20","v":2},{"$f":"+'26_Regiones'!AE10","v":68}]
[]
["*Se han incluido indicadores claves con desagregado a nivel regional"]

{"sheet":"Ica","index":11,"n_rows":46,"n_cols":4,"rows_kept":46,"cut":false,"hidden":false,"merged":[[36,0,36,3],[37,0,40,0],[41,0,41,1],[42,0,42,1],[43,0,43,1],[22,0,24,0],[25,0,26,0],[27,0,28,0],[29,0,29,3],[30,0,35,0],[30,1,30,3],[33,1,33,3],[20,0,21,0],[4,0,4,3],[6,0,6,1],[7,0,7,3],[8,0,9,0],[10,0,12,0],[14,0,14,3],[15,0,15,1],[16,0,16,1],[17,0,17,1],[18,0,18,3],[19,0,19,1]]}
[]
[]
[]
[]
["INDICADORES SOCIODEMOGRÁFICOS Y BRECHAS DE GÉNERO EN EL DEPARTAMENTO DE ICA"]
[]
["INDICADORES SOECIOENCÓMICOS *",null,"ICA","NACIONAL"]
["EDUCACIÓN"]
["Tasa de analfabetismo de personas de 15 años a más (ENAHO, 2019)","Mujeres","2021-08-02","8.1%"]
[null,"Hombres","2021-08-01","3.0%"]
["Tasa neta de asistencia en educación en la modalidad básica regular (MINEDU, 2020)","Educación inicial","91.9",0.81200000000000006]
[null,"Educación primaria","94.2",0.94399999999999995]
[null,"Educación secundaria","85.8",0.83499999999999996]
["Tasa de deserción escolar en la educación básica (MINEDU, 2020)","Total","2021-04-06",9.0999999999999998E-2]
["SALUD"]
[{"$f":"+'26_Regiones'!$H$7","v":"Adolescentes de 15 a 19 años de edad alguna vez embarazadas (ENDES, 2022)"},null,{"$f":"'26_Regiones'!H21","v":7.4462175510167233E-2},{"$f":"'26_Regiones'!$H$10","v":7.4999999999999997E-2}]
[{"$f":"+'26_Regiones'!$I$7","v":"Porcentaje de mujeres que usan métodos anticonceptivos (ENDES, 2022)"},null,{"$f":"'26_Regiones'!I21","v":0.83542369379749315},{"$f":"'26_Regiones'!$I$10","v":0.77900000000000003}]
[{"$f":"+'26_Regiones'!$J$7","v":"Porcentaje de mujeres con necesidad insatisfecha de planificación familiar (ENDES, 2022)"},null,{"$f":"'26_Regiones'!J21","v":2.7512656752251521E-2},{"$f":"'26_Regiones'!$J$10","v":5.8999999999999997E-2}]
["ECONOMÍA"]
["Porcentaje de mujeres jefas de hogar (ENAHO, 2020)",null,"23.16%","17.71%"]
["Tasa de actividad económica de mujeres y hombres (ENAHO, 2020)","Mujeres","51.03%",0.54510000000000003]
[null,"Hombres","73.60%",0.74970000000000003]
["Porcentaje de mujeres ocupadas, según sector económico (ENAHO, 2019)","A) Sector Primario","2021-05-11","21.4%"]
[null,"B) Sector Secundario","2021-08-12","8.6%"]
[null,"C) Sector Terciario","75.6","70.0%"]
["Porcentaje de mujeres y hombres que están afiliados a un sistema de pensión (ENAHO, 2020)","Mujeres","54.88%",0.28789999999999999]
[null,"Hombres","65.50%",0.41699999999999998]
["Porcentaje de mujeres y hombres sin ingresos propios (ENAHO, 2020)","Mujeres","30.1%",0.36]
[null,"Hombres","18.1%",0.19700000000000001]
["PARTICIPACIÓN POLÍTICA"]
["Número de Alcaldes/as Provinciales y Distritales 2023-2026 (JNE, 2023)","A) Alcaldes Provinciales (5 Provincias)"]
[null,"Mujeres",0,9]
[null,"Hombres",5,187]
[null,"B) Alcaldes Distritales (38 Distritos)"]
[null,"Mujeres",5,93]
[null,"Hombres",33,1601]
["VIOLENCIA Y OTROS DELITOS"]
[{"$f":"+'26_Regiones'!$Y$7","v":"Violencia familiar contra la mujer ejercida alguna vez por el esposo o compañero (ENDES, 2022)"},"Total",{"$f":"'26_Regiones'!Y21","v":0.52670501262214164},{"$f":"'26_Regiones'!$Y$10","v":0.55700000000000005}]
[null,"Psicológica",{"$f":"'26_Regiones'!Z21","v":0.49764064559942317},{"$f":"'26_Regiones'!$Z$10","v":0.51900000000000002}]
[null,"Física",{"$f":"'26_Regiones'!AA21","v":0.25319021074074693},{"$f":"'26_Regiones'!$AA$10","v":0.27800000000000002}]
[null,"Sexual",{"$f":"'26_Regiones'!AB21","v":2.5319021074074691E-3},{"$f":"'26_Regiones'!$AB$10","v":6.7000000000000004E-2}]
[{"$f":"+'26_Regiones'!$AC$7","v":"Violencia física y/o sexual ejercida por el esposo o compañero en los últimos 12 meses (ENDES, 2022)"},null,{"$f":"'26_Regiones'!AC21","v":6.7000000000000004E-2},{"$f":"'26_Regiones'!$AC$10","v":8.5999999999999993E-2}]
["Mujeres víctimas del delito de trata de personas con denuncia registrada en la PNP (Ministerio Público, 2020)",null,"-",342]
[{"$f":"+'26_Regiones'!AE7","v":"Número de casos de víctimas de feminicidio (Programa Aurora, Ene - May 2023)"},null,{"$f":"+'26_Regiones'!AE21","v":3},{"$f":"+'26_Regiones'!AE10","v":68}]
[]
["*Se han incluido indicadores claves con desagregado a nivel regional"]

{"sheet":"Junin","index":12,"n_rows":46,"n_cols":4,"rows_kept":46,"cut":false,"hidden":false,"merged":[[36,0,36,3],[37,0,40,0],[41,0,41,1],[42,0,42,1],[43,0,43,1],[22,0,24,0],[25,0,26,0],[27,0,28,0],[29,0,29,3],[30,0,35,0],[30,1,30,3],[33,1,33,3],[20,0,21,0],[4,0,4,3],[6,0,6,1],[7,0,7,3],[8,0,9,0],[10,0,12,0],[14,0,14,3],[15,0,15,1],[16,0,16,1],[17,0,17,1],[18,0,18,3],[19,0,19,1]]}
[]
[]
[]
[]
["INDICADORES SOCIODEMOGRÁFICOS Y BRECHAS DE GÉNERO EN EL DEPARTAMENTO DE JUNÍN"]
[]
["INDICADORES SOECIOENCÓMICOS *",null,"JUNÍN","NACIONAL"]
["EDUCACIÓN"]
["Tasa de analfabetismo de personas de 15 años a más (ENAHO, 2019)","Mujeres","10.7%","8.1%"]
[null,"Hombres","3.3%","3.0%"]
["Tasa neta de asistencia en educación en la modalidad básica regular (MINEDU, 2020)","Educación inicial","66.6%",0.81200000000000006]
[null,"Educación primaria","93.7%",0.94399999999999995]
[null,"Educación secundaria","83.5%",0.83499999999999996]
["Tasa de deserción escolar en la educación básica (MINEDU, 2020)","Total","8.1%",9.0999999999999998E-2]
["SALUD"]
[{"$f":"+'26_Regiones'!$H$7","v":"Adolescentes de 15 a 19 años de edad alguna vez embarazadas (ENDES, 2022)"},null,{"$f":"'26_Regiones'!H22","v":9.5568057803874507E-2},{"$f":"'26_Regiones'!$H$10","v":7.4999999999999997E-2}]
[{"$f":"+'26_Regiones'!$I$7","v":"Porcentaje de mujeres que usan métodos anticonceptivos (ENDES, 2022)"},null,{"$f":"'26_Regiones'!I22","v":0.81346413289082509},{"$f":"'26_Regiones'!$I$10","v":0.77900000000000003}]
[{"$f":"+'26_Regiones'!$J$7","v":"Porcentaje de mujeres con necesidad insatisfecha de planificación familiar (ENDES, 2022)"},null,{"$f":"'26_Regiones'!J22","v":4.672212717246136E-2},{"$f":"'26_Regiones'!$J$10","v":5.8999999999999997E-2}]
["ECONOMÍA"]
["Porcentaje de mujeres jefas de hogar (ENAHO, 2020)",null,"17.27%","17.71%"]
["Tasa de actividad económica de mujeres y hombres - PEA (ENAHO, 2020)","Mujeres","59.59%",0.54510000000000003]
[null,"Hombres","76.15%",0.74970000000000003]
["Porcentaje de mujeres ocupadas, según sector económico (ENAHO, 2019)","A) Sector Primario",0.38,"21.4%"]
[null,"B) Sector Secundario","4.8%","8.6%"]
[null,"C) Sector Terciario","57.2%","70.0%"]
["Porcentaje de mujeres y hombres que acceden a un sistema de pensión (ENAHO, 2019)","Mujeres","17.85%",0.28789999999999999]
[null,"Hombres","29.55%",0.41699999999999998]
["Porcentaje de mujeres y hombres sin ingresos propios (ENAHO, 2020)","Mujeres","33.2%",0.36]
[null,"Hombres","18.6%",0.19700000000000001]
["PARTICIPACIÓN POLÍTICA"]
["Número de Alcaldes/as Provinciales y Distritales 2023-2026 (JNE, 2023)","A) Alcaldes Provinciales (9 Provincias)"]
[null,"Mujeres",0,9]
[null,"Hombres",9,187]
[null,"B) Alcaldes Distritales (115 Distritos)"]
[null,"Mujeres",6,93]
[null,"Hombres",109,1601]
["VIOLENCIA Y OTROS DELITOS"]
[{"$f":"+'26_Regiones'!$Y$7","v":"Violencia familiar contra la mujer ejercida alguna vez por el esposo o compañero (ENDES, 2022)"},"Total",{"$f":"'26_Regiones'!Y22","v":0.69073338132697448},{"$f":"'26_Regiones'!$Y$10","v":0.55700000000000005}]
[null,"Psicológica",{"$f":"'26_Regiones'!Z22","v":0.635922112869034},{"$f":"'26_Regiones'!$Z$10","v":0.51900000000000002}]
[null,"Física",{"$f":"'26_Regiones'!AA22","v":0.40825974571092621},{"$f":"'26_Regiones'!$AA$10","v":0.27800000000000002}]
[null,"Sexual",{"$f":"'26_Regiones'!AB22","v":4.0825974571092622E-3},{"$f":"'26_Regiones'!$AB$10","v":6.7000000000000004E-2}]
[{"$f":"+'26_Regiones'!$AC$7","v":"Violencia física y/o sexual ejercida por el esposo o compañero en los últimos 12 meses (ENDES, 2022)"},null,{"$f":"'26_Regiones'!AC22","v":0.113},{"$f":"'26_Regiones'!$AC$10","v":8.5999999999999993E-2}]
["Mujeres víctimas del delito de trata de personas con denuncia registrada en la PNP (Ministerio Público, 2020)",null,8,342]
[{"$f":"+'26_Regiones'!AE7","v":"Número de casos de víctimas de feminicidio (Programa Aurora, Ene - May 2023)"},null,{"$f":"+'26_Regiones'!AE22","v":1},{"$f":"+'26_Regiones'!AE10","v":68}]
[]
["*Se han incluido indicadores claves con desagregado a nivel regional"]

{"sheet":"La_Libertad","index":13,"n_rows":46,"n_cols":4,"rows_kept":46,"cut":false,"hidden":false,"merged":[[36,0,36,3],[37,0,40,0],[41,0,41,1],[42,0,42,1],[43,0,43,1],[22,0,24,0],[25,0,26,0],[27,0,28,0],[29,0,29,3],[30,0,35,0],[30,1,30,3],[33,1,33,3],[20,0,21,0],[4,0,4,3],[6,0,6,1],[7,0,7,3],[8,0,9,0],[10,0,12,0],[14,0,14,3],[15,0,15,1],[16,0,16,1],[17,0,17,1],[18,0,18,3],[19,0,19,1]]}
[]
[]
[]
[]
["INDICADORES SOCIODEMOGRÁFICOS Y BRECHAS DE GÉNERO EN EL DEPARTAMENTO DE LA LIBERTAD"]
[]
["INDICADORES SOECIOENCÓMICOS *",null,"LA LIBERTAD","NACIONAL"]
["EDUCACIÓN"]
["Tasa de analfabetismo de personas de 15 años a más (ENAHO, 2019)","Mujeres","7.6%","8.1%"]
[null,"Hombres","2.6%","3.0%"]
["Tasa neta de asistencia en educación en la modalidad básica regular (MINEDU, 2020)","Educación inicial","85.9%",0.81200000000000006]
[null,"Educación primaria","93.6%",0.94399999999999995]
[null,"Educación secundaria","79.4%",0.83499999999999996]
["Tasa de deserción escolar en la educación básica (MINEDU, 2020)","Total","2021-04-15",9.0999999999999998E-2]
["SALUD"]
[{"$f":"+'26_Regiones'!$H$7","v":"Adolescentes de 15 a 19 años de edad alguna vez embarazadas (ENDES, 2022)"},null,{"$f":"'26_Regiones'!H23","v":6.8691143924197492E-2},{"$f":"'26_Regiones'!$H$10","v":7.4999999999999997E-2}]
[{"$f":"+'26_Regiones'!$I$7","v":"Porcentaje de mujeres que usan métodos anticonceptivos (ENDES, 2022)"},null,{"$f":"'26_Regiones'!I23","v":0.82969546480223333},{"$f":"'26_Regiones'!$I$10","v":0.77900000000000003}]
[{"$f":"+'26_Regiones'!$J$7","v":"Porcentaje de mujeres con necesidad insatisfecha de planificación familiar (ENDES, 2022)"},null,{"$f":"'26_Regiones'!J23","v":4.3942647542504369E-2},{"$f":"'26_Regiones'!$J$10","v":5.8999999999999997E-2}]
["ECONOMÍA"]
["Porcentaje de mujeres jefas de hogar (ENAHO, 2020)",null,"16.70% ","17.71%"]
["Tasa de actividad económica de mujeres y hombres (ENAHO, 2020)","Mujeres","48.96%",0.54510000000000003]
[null,"Hombres","75.03%",0.74970000000000003]
["Porcentaje de mujeres ocupadas, según sector económico (ENAHO, 2019)","A) Sector Primario",0.2,"21.4%"]
[null,"B) Sector Secundario","10.1%","8.6%"]
[null,"C) Sector Terciario","69.9%","70.0%"]
["Porcentaje de mujeres y hombres que acceden a un sistema de pensión (ENAHO, 2019)","Mujeres","34.67%",0.28789999999999999]
[null,"Hombres","45.96%",0.41699999999999998]
["Porcentaje de mujeres y hombres sin ingresos propios (ENAHO, 2020)","Mujeres","38.5%",0.36]
[null,"Hombres","21.1%",0.19700000000000001]
["PARTICIPACIÓN POLÍTICA"]
["Número de Alcaldes/as Provinciales y Distritales 2023-2026 (JNE, 2023)","A) Alcaldes Provinciales (12 Provincias)"]
[null,"Mujeres",1,9]
[null,"Hombres",11,187]
[null,"B) Alcaldes Distritales (72 Distritos)"]
[null,"Mujeres",1,93]
[null,"Hombres",70,1601]
["VIOLENCIA Y OTROS DELITOS"]
[{"$f":"+'26_Regiones'!$Y$7","v":"Violencia familiar contra la mujer ejercida alguna vez por el esposo o compañero (ENDES, 2022)"},"Total",{"$f":"'26_Regiones'!Y23","v":0.58399755057198954},{"$f":"'26_Regiones'!$Y$10","v":0.55700000000000005}]
[null,"Psicológica",{"$f":"'26_Regiones'!Z23","v":0.54496070980986078},{"$f":"'26_Regiones'!$Z$10","v":0.51900000000000002}]
[null,"Física",{"$f":"'26_Regiones'!AA23","v":0.2447019213270103},{"$f":"'26_Regiones'!$AA$10","v":0.27800000000000002}]
[null,"Sexual",{"$f":"'26_Regiones'!AB23","v":2.4470192132701029E-3},{"$f":"'26_Regiones'!$AB$10","v":6.7000000000000004E-2}]
[{"$f":"+'26_Regiones'!$AC$7","v":"Violencia física y/o sexual ejercida por el esposo o compañero en los últimos 12 meses (ENDES, 2022)"},null,{"$f":"'26_Regiones'!AC23","v":6.8000000000000005E-2},{"$f":"'26_Regiones'!$AC$10","v":8.5999999999999993E-2}]
["Mujeres víctimas del delito de trata de personas con denuncia registrada en la PNP (Ministerio Público, 2020)",null,12,342]
[{"$f":"+'26_Regiones'!AE7","v":"Número de casos de víctimas de feminicidio (Programa Aurora, Ene - May 2023)"},null,{"$f":"+'26_Regiones'!AE23","v":1},{"$f":"+'26_Regiones'!AE10","v":68}]
[]
["*Se han incluido indicadores claves con desagregado a nivel regional"]

{"sheet":"Lambayeque","index":14,"n_rows":46,"n_cols":4,"rows_kept":46,"cut":false,"hidden":false,"merged":[[36,0,36,3],[37,0,40,0],[41,0,41,1],[42,0,42,1],[43,0,43,1],[22,0,24,0],[25,0,26,0],[27,0,28,0],[29,0,29,3],[30,0,35,0],[30,1,30,3],[33,1,33,3],[20,0,21,0],[4,0,4,3],[6,0,6,1],[7,0,7,3],[8,0,9,0],[10,0,12,0],[14,0,14,3],[15,0,15,1],[16,0,16,1],[17,0,17,1],[18,0,18,3],[19,0,19,1]]}
[]
[]
[]
[]
["INDICADORES SOCIODEMOGRÁFICOS Y BRECHAS DE GÉNERO EN EL DEPARTAMENTO DE LAMBAYEQUE"]
[]
["INDICADORES SOECIOENCÓMICOS *",null,"LAMBAYEQUE","NACIONAL"]
["EDUCACIÓN"]
["Tasa de analfabetismo de personas de 15 años a más (ENAHO, 2019)","Mujeres","7.6%","8.1%"]
[null,"Hombres","2.7%","3.0%"]
["Tasa neta de asistencia en educación en la modalidad básica regular (MINEDU, 2020)","Educación inicial","78.6%",0.81200000000000006]
[null,"Educación primaria","92.2%",0.94399999999999995]
[null,"Educación secundaria",0.82,0.83499999999999996]
["Tasa de deserción escolar en la educación básica (MINEDU, 2020)","Total","12.5%",9.0999999999999998E-2]
["SALUD"]
[{"$f":"+'26_Regiones'!$H$7","v":"Adolescentes de 15 a 19 años de edad alguna vez embarazadas (ENDES, 2022)"},null,{"$f":"'26_Regiones'!H24","v":0.10366307263240568},{"$f":"'26_Regiones'!$H$10","v":7.4999999999999997E-2}]
[{"$f":"+'26_Regiones'!$I$7","v":"Porcentaje de mujeres que usan métodos anticonceptivos (ENDES, 2022)"},null,{"$f":"'26_Regiones'!I24","v":0.73750279254296291},{"$f":"'26_Regiones'!$I$10","v":0.77900000000000003}]
[{"$f":"+'26_Regiones'!$J$7","v":"Porcentaje de mujeres con necesidad insatisfecha de planificación familiar (ENDES, 2022)"},null,{"$f":"'26_Regiones'!J24","v":6.8063070228264355E-2},{"$f":"'26_Regiones'!$J$10","v":5.8999999999999997E-2}]
["ECONOMÍA"]
["Porcentaje de mujeres jefas de hogar (ENAHO, 2020)",null,"16.22%","17.71%"]
["Tasa de actividad económica de mujeres y hombres (ENAHO, 2020)","Mujeres","46.65%",0.54510000000000003]
[null,"Hombres","74.05%",0.74970000000000003]
["Porcentaje de mujeres ocupadas, según sector económico (ENAHO, 2019)","A) Sector Primario","18.1%","21.4%"]
[null,"B) Sector Secundario","8.8%","8.6%"]
[null,"C) Sector Terciario","73.1%","70.0%"]
["Porcentaje de mujeres y hombres que acceden a un sistema de pensión (ENAHO, 2019)","Mujeres","33.13%",0.28789999999999999]
[null,"Hombres","41.20%",0.41699999999999998]
["Porcentaje de mujeres y hombres sin ingresos propios (ENAHO, 2020)","Mujeres","36.4%",0.36]
[null,"Hombres","16.3%",0.19700000000000001]
["PARTICIPACIÓN POLÍTICA"]
["Número de Alcaldes/as Provinciales y Distritales 2023-2026 (JNE, 2023)","A) Alcaldes Provinciales (3 Provincias)"]
[null,"Mujeres",1,9]
[null,"Hombres",2,187]
[null,"B) Alcaldes Distritales (35 Distritos)"]
[null,"Mujeres",2,93]
[null,"Hombres",33,1601]
["VIOLENCIA Y OTROS DELITOS"]
[{"$f":"+'26_Regiones'!$Y$7","v":"Violencia familiar contra la mujer ejercida alguna vez por el esposo o compañero (ENDES, 2022)"},"Total",{"$f":"'26_Regiones'!Y24","v":0.446602224984052},{"$f":"'26_Regiones'!$Y$10","v":0.55700000000000005}]
[null,"Psicológica",{"$f":"'26_Regiones'!Z24","v":0.42124714912577643},{"$f":"'26_Regiones'!$Z$10","v":0.51900000000000002}]
[null,"Física",{"$f":"'26_Regiones'!AA24","v":0.21291090929745399},{"$f":"'26_Regiones'!$AA$10","v":0.27800000000000002}]
[null,"Sexual",{"$f":"'26_Regiones'!AB24","v":2.1291090929745401E-3},{"$f":"'26_Regiones'!$AB$10","v":6.7000000000000004E-2}]
[{"$f":"+'26_Regiones'!$AC$7","v":"Violencia física y/o sexual ejercida por el esposo o compañero en los últimos 12 meses (ENDES, 2022)"},null,{"$f":"'26_Regiones'!AC24","v":5.7999999999999996E-2},{"$f":"'26_Regiones'!$AC$10","v":8.5999999999999993E-2}]
["Mujeres víctimas del delito de trata de personas con denuncia registrada en la PNP (Ministerio Público, 2020)",null,21,342]
[{"$f":"+'26_Regiones'!AE7","v":"Número de casos de víctimas de feminicidio (Programa Aurora, Ene - May 2023)"},null,{"$f":"+'26_Regiones'!AE24","v":1},{"$f":"+'26_Regiones'!AE10","v":68}]
[]
["*Se han incluido indicadores claves con desagregado a nivel regional"]

{"sheet":"Lima_Metropolitana","index":15,"n_rows":57,"n_cols":4,"rows_kept":57,"cut":false,"hidden":false,"merged":[[51,0,51,1],[52,0,52,1],[53,0,54,0],[39,0,39,3],[40,0,45,0],[40,1,40,3],[43,1,43,3],[46,0,46,3],[47,0,50,0],[37,0,38,0],[21,0,21,3],[22,0,23,0],[22,3,23,3],[24,0,25,0],[24,3,25,3],[26,0,27,0],[26,3,27,3],[28,0,28,3],[29,0,29,1],[30,0,31,0],[32,0,34,0],[35,0,36,0],[19,0,20,0],[4,0,4,3],[6,0,6,1],[7,0,7,3],[8,0,9,0],[10,0,18,0]]}
[]
[]
[]
[]
["INDICADORES SOCIODEMOGRÁFICOS Y BRECHAS DE GÉNERO EN EL DEPARTAMENTO DE LIMA"]
[]
["INDICADORES SOECIOENCÓMICOS *",null,"LIMA","NACIONAL"]
["EDUCACIÓN"]
["Tasa de analfabetismo de personas de 15 años a más (ENAHO, 2019)","Mujeres","3.1%","8.1%"]
[null,"Hombres","1.4%","3.0%"]
["Tasa neta de asistencia en educación en la modalidad básica regular (MINEDU, 2020)","Educación inicial","-",0.81200000000000006]
[null,"Lima Metropolitana","79.1%"]
[null,"Lima Provincias","78.8%"]
[null,"Educación primaria","-",0.94399999999999995]
[null,"Lima Metropolitana","92.7%"]
[null,"Lima Provincias","94.8%"]
[null,"Educación secundaria","-",0.83499999999999996]
[null,"Lima Metropolitana",0.84]
[null,"Lima Provincias","78.4%"]
["Tasa de deserción escolar en la educación básica (MINEDU, 2020)","Lima Metropolitana","8.8%",9.0999999999999998E-2]
[null,"Lima Provincias","8.7%"]
["SALUD"]
[{"$f":"+'26_Regiones'!$H$7","v":"Adolescentes de 15 a 19 años de edad alguna vez embarazadas (ENDES, 2022)"},"Lima Metropolitana",{"$f":"'26_Regiones'!H25","v":3.7422504532889547E-2},{"$f":"'26_Regiones'!H10","v":7.4999999999999997E-2}]
[null,"Lima Provincias",{"$f":"'26_Regiones'!H26","v":4.9142666084746003E-2}]
[{"$f":"+'26_Regiones'!$I$7","v":"Porcentaje de mujeres que usan métodos anticonceptivos (ENDES, 2022)"},"Lima Metropolitana",{"$f":"'26_Regiones'!I25","v":0.78735816368169287},{"$f":"'26_Regiones'!I10","v":0.77900000000000003}]
[null,"Lima Provincias",{"$f":"'26_Regiones'!I26","v":0.76734897002341096}]
[{"$f":"+'26_Regiones'!$J$7","v":"Porcentaje de mujeres con necesidad insatisfecha de planificación familiar (ENDES, 2022)"},"Lima Metropolitana",{"$f":"'26_Regiones'!J25","v":6.041138822084844E-2},{"$f":"'26_Regiones'!J10","v":5.8999999999999997E-2}]
[null,"Lima Provincias",{"$f":"'26_Regiones'!J26","v":6.0569516754898058E-2}]
["ECONOMÍA"]
["Porcentaje de mujeres jefas de hogar (ENAHO, 2020)",null,"19.40%","17.71%"]
["Tasa de actividad económica de mujeres y hombres (ENAHO, 2020)","Mujeres","48.04%",0.54510000000000003]
[null,"Hombres","67.92%",0.74970000000000003]
["Porcentaje de mujeres ocupadas, según sector económico (ENAHO, 2019)","A) Sector Primario","3.4%","21.4%"]
[null,"B) Sector Secundario","10.1%","8.6%"]
[null,"C) Sector Terciario","86.5%","70.0%"]
["Porcentaje de mujeres y hombres que acceden a un sistema de pensión (ENAHO, 2019)","Mujeres","45.00%",0.28789999999999999]
[null,"Hombres","56.33%",0.41699999999999998]
["Porcentaje de mujeres y hombres sin ingresos propios (ENAHO, 2020)","Mujeres","39.8%",0.36]
[null,"Hombres","24.6%",0.19700000000000001]
["PARTICIPACIÓN POLÍTICA"]
["Número de Alcaldes/as Provinciales y Distritales 2023-2026 (JNE, 2023)","A) Alcaldes Provinciales (1 Provincias)"]
[null,"Mujeres",0,9]
[null,"Hombres",1,187]
[null,"B) Alcaldes Distritales (42 Distritos)"]
[null,"Mujeres",6,93]
[null,"Hombres",36,1601]
["VIOLENCIA Y OTROS DELITOS"]
[{"$f":"+'26_Regiones'!$Y$7","v":"Violencia familiar contra la mujer ejercida alguna vez por el esposo o compañero (ENDES, 2022)"},"Total",{"$f":"'26_Regiones'!Y25","v":0.56339401830901681},{"$f":"'26_Regiones'!$Y$10","v":0.55700000000000005}]
[null,"Psicológica",{"$f":"'26_Regiones'!Z25","v":0.5338781660970785},{"$f":"'26_Regiones'!$Z$10","v":0.51900000000000002}]
[null,"Física",{"$f":"'26_Regiones'!AA25","v":0.26587567922739452},{"$f":"'26_Regiones'!$AA$10","v":0.27800000000000002}]
[null,"Sexual",{"$f":"'26_Regiones'!AB25","v":2.6587567922739452E-3},{"$f":"'26_Regiones'!$AB$10","v":6.7000000000000004E-2}]
[{"$f":"+'26_Regiones'!$AC$7","v":"Violencia física y/o sexual ejercida por el esposo o compañero en los últimos 12 meses (ENDES, 2022)"},null,{"$f":"'26_Regiones'!AC25","v":8.2005275400061153E-2},{"$f":"'26_Regiones'!$AC$10","v":8.5999999999999993E-2}]
["Mujeres víctimas del delito de trata de personas con denuncia registrada en la PNP (Ministerio Público, 2020)",null,190,342]
[{"$f":"+'26_Regiones'!AE7","v":"Número de casos de víctimas de feminicidio (Programa Aurora, Ene - May 2023)"},"Lima Metropolitana",{"$f":"+'26_Regiones'!AE25","v":13},{"$f":"+'26_Regiones'!AE10","v":68}]
[null,"Lima Provincias",{"$f":"+'26_Regiones'!AE26","v":2},{"$f":"+'26_Regiones'!AE10","v":68}]
[]
["*Se han incluido indicadores claves con desagregado a nivel regional"]

{"sheet":"Lima_Provincias","index":16,"n_rows":57,"n_cols":4,"rows_kept":57,"cut":false,"hidden":false,"merged":[[51,0,51,1],[52,0,52,1],[53,0,54,0],[39,0,39,3],[40,0,45,0],[40,1,40,3],[43,1,43,3],[46,0,46,3],[47,0,50,0],[37,0,38,0],[21,0,21,3],[22,0,23,0],[22,3,23,3],[24,0,25,0],[24,3,25,3],[26,0,27,0],[26,3,27,3],[28,0,28,3],[29,0,29,1],[30,0,31,0],[32,0,34,0],[35,0,36,0],[19,0,20,0],[4,0,4,3],[6,0,6,1],[7,0,7,3],[8,0,9,0],[10,0,18,0]]}
[]
[]
[]
[]
["INDICADORES SOCIODEMOGRÁFICOS Y BRECHAS DE GÉNERO EN EL DEPARTAMENTO DE LIMA"]
[]
["INDICADORES SOECIOENCÓMICOS *",null,"LIMA","NACIONAL"]
["EDUCACIÓN"]
["Tasa de analfabetismo de personas de 15 años a más (ENAHO, 2019)","Mujeres","3.1%","8.1%"]
[null,"Hombres","1.4%","3.0%"]
["Tasa neta de asistencia en educación en la modalidad básica regular (MINEDU, 2020)","Educación inicial","-",0.81200000000000006]
[null,"Lima Metropolitana","79.1%"]
[null,"Lima Provincias","78.8%"]
[null,"Educación primaria","-",0.94399999999999995]
[null,"Lima Metropolitana","92.7%"]
[null,"Lima Provincias","94.8%"]
[null,"Educación secundaria","-",0.83499999999999996]
[null,"Lima Metropolitana",0.84]
[null,"Lima Provincias","78.4%"]
["Tasa de deserción escolar en la educación básica (MINEDU, 2020)","Lima Metropolitana","8.8%",9.0999999999999998E-2]
[null,"Lima Provincias","8.7%"]
["SALUD"]
[{"$f":"+'26_Regiones'!$H$7","v":"Adolescentes de 15 a 19 años de edad alguna vez embarazadas (ENDES, 2022)"},"Lima Metropolitana",{"$f":"'26_Regiones'!H25","v":3.7422504532889547E-2},{"$f":"'26_Regiones'!H10","v":7.4999999999999997E-2}]
[null,"Lima Provincias",{"$f":"'26_Regiones'!H26","v":4.9142666084746003E-2}]
[{"$f":"+'26_Regiones'!$I$7","v":"Porcentaje de mujeres que usan métodos anticonceptivos (ENDES, 2022)"},"Lima Metropolitana",{"$f":"'26_Regiones'!I25","v":0.78735816368169287},{"$f":"'26_Regiones'!I10","v":0.77900000000000003}]
[null,"Lima Provincias",{"$f":"'26_Regiones'!I26","v":0.76734897002341096}]
[{"$f":"+'26_Regiones'!$J$7","v":"Porcentaje de mujeres con necesidad insatisfecha de planificación familiar (ENDES, 2022)"},"Lima Metropolitana",{"$f":"'26_Regiones'!J25","v":6.041138822084844E-2},{"$f":"'26_Regiones'!J10","v":5.8999999999999997E-2}]
[null,"Lima Provincias",{"$f":"'26_Regiones'!J26","v":6.0569516754898058E-2}]
["ECONOMÍA"]
["Porcentaje de mujeres jefas de hogar (ENAHO, 2020)",null,"19.40%","17.71%"]
["Tasa de actividad económica de mujeres y hombres (ENAHO, 2020)","Mujeres","48.04%",0.54510000000000003]
[null,"Hombres","67.92%",0.74970000000000003]
["Porcentaje de mujeres ocupadas, según sector económico (ENAHO, 2019)","A) Sector Primario","3.4%","21.4%"]
[null,"B) Sector Secundario","10.1%","8.6%"]
[null,"C) Sector Terciario","86.5%","70.0%"]
["Porcentaje de mujeres y hombres que acceden a un sistema de pensión (ENAHO, 2019)","Mujeres","45.00%",0.28789999999999999]
[null,"Hombres","56.33%",0.41699999999999998]
["Porcentaje de mujeres y hombres sin ingresos propios (ENAHO, 2020)","Mujeres","39.8%",0.36]
[null,"Hombres","24.6%",0.19700000000000001]
["PARTICIPACIÓN POLÍTICA"]
["Número de Alcaldes/as Provinciales y Distritales 2023-2026 (JNE, 2023)","A) Alcaldes Provinciales (9 Provincias)"]
[null,"Mujeres",0,9]
[null,"Hombres",9,187]
[null,"B) Alcaldes Distritales (119 Distritos)"]
[null,"Mujeres",11,93]
[null,"Hombres",108,1601]
["VIOLENCIA Y OTROS DELITOS"]
[{"$f":"+'26_Regiones'!$Y$7","v":"Violencia familiar contra la mujer ejercida alguna vez por el esposo o compañero (ENDES, 2022)"},"Total",{"$f":"'26_Regiones'!Y26","v":0.56198143027741965},{"$f":"'26_Regiones'!$Y$10","v":0.55700000000000005}]
[null,"Psicológica",{"$f":"'26_Regiones'!Z26","v":0.53369892769691429},{"$f":"'26_Regiones'!$Z$10","v":0.51900000000000002}]
[null,"Física",{"$f":"'26_Regiones'!AA26","v":0.27117235097630477},{"$f":"'26_Regiones'!$AA$10","v":0.27800000000000002}]
[null,"Sexual",{"$f":"'26_Regiones'!AB26","v":2.7117235097630478E-3},{"$f":"'26_Regiones'!$AB$10","v":6.7000000000000004E-2}]
[{"$f":"+'26_Regiones'!$AC$7","v":"Violencia física y/o sexual ejercida por el esposo o compañero en los últimos 12 meses (ENDES, 2022)"},null,{"$f":"'26_Regiones'!AC26","v":6.2E-2},{"$f":"'26_Regiones'!$AC$10","v":8.5999999999999993E-2}]
["Mujeres víctimas del delito de trata de personas con denuncia registrada en la PNP (Ministerio Público, 2020)",null,190,342]
[{"$f":"+'26_Regiones'!AE7","v":"Número de casos de víctimas de feminicidio (Programa Aurora, Ene - May 2023)"},"Lima Metropolitana",{"$f":"+'26_Regiones'!AE25","v":13},{"$f":"+'26_Regiones'!AE10","v":68}]
[null,"Lima Provincias",{"$f":"+'26_Regiones'!AE26","v":2},{"$f":"+'26_Regiones'!AE10","v":68}]
[]
["*Se han incluido indicadores claves con desagregado a nivel regional"]

{"sheet":"Loreto","index":17,"n_rows":46,"n_cols":4,"rows_kept":46,"cut":false,"hidden":false,"merged":[[36,0,36,3],[37,0,40,0],[41,0,41,1],[42,0,42,1],[43,0,43,1],[30,0,35,0],[30,1,30,3],[33,1,33,3],[14,0,14,3],[15,0,15,1],[16,0,16,1],[17,0,17,1],[18,0,18,3],[19,0,19,1],[20,0,21,0],[22,0,24,0],[25,0,26,0],[27,0,28,0],[29,0,29,3],[13,0,13,1],[4,0,4,3],[6,0,6,1],[7,0,7,3],[8,0,9,0],[10,0,12,0]]}
[]
[]
[]
[]
["INDICADORES SOCIODEMOGRÁFICOS Y BRECHAS DE GÉNERO EN EL DEPARTAMENTO DE LORETO"]
[]
["INDICADORES SOECIOENCÓMICOS *",null,"LORETO","NACIONAL"]
["EDUCACIÓN"]
["Tasa de analfabetismo de mujeres de 15 años a más (ENAHO, 2019)","Mujeres",8.4000000000000005E-2,8.1000000000000003E-2]
[null,"Hombres",4.5999999999999999E-2,0.03]
["Tasa neta de asistencia (MINEDU, 2020)","Educación inicial",0.72799999999999998,0.81200000000000006]
[null,"Educación primaria",0.83099999999999996,0.94399999999999995]
[null,"Educación secundaria",0.67700000000000005,0.83499999999999996]
["Tasa de deserción escolar en la educación básica (MINEDU, 2020)",null,0.159,9.0999999999999998E-2]
["SALUD"]
[{"$f":"+'26_Regiones'!$H$7","v":"Adolescentes de 15 a 19 años de edad alguna vez embarazadas (ENDES, 2022)"},null,{"$f":"'26_Regiones'!H27","v":0.1482675965331034},{"$f":"'26_Regiones'!$H$10","v":7.4999999999999997E-2}]
[{"$f":"+'26_Regiones'!$I$7","v":"Porcentaje de mujeres que usan métodos anticonceptivos (ENDES, 2022)"},null,{"$f":"'26_Regiones'!I27","v":0.69707046866308875},{"$f":"'26_Regiones'!$I$10","v":0.77900000000000003}]
[{"$f":"+'26_Regiones'!$J$7","v":"Porcentaje de mujeres con necesidad insatisfecha de planificación familiar (ENDES, 2022)"},null,{"$f":"'26_Regiones'!J27","v":0.10071655491221491},{"$f":"'26_Regiones'!$J$10","v":5.8999999999999997E-2}]
["ECONOMÍA"]
["Porcentaje de mujeres jefas de hogar (ENAHO, 2020)",null,{"$f":"22.31/100","v":0.22309999999999999},{"$f":"31.92/100","v":0.31920000000000004}]
["Tasa de actividad de mujeres y hombres (ENAHO, 2019)","Mujeres",0.57699999999999996,0.64500000000000002]
[null,"Hombres",0.78900000000000003,0.81100000000000005]
["Porcentaje de mujeres ocupadas, según sector económico (ENAHO, 2019)","A) Sector Primario",0.183,0.214]
[null,"B) Sector Secundario",5.6000000000000001E-2,8.5999999999999993E-2]
[null,"C) Sector Terciario",0.76100000000000001,0.7]
["Porcentaje de mujeres y hombres que acceden a un sistema de pensión (ENAHO, 2019)","Mujeres",0.23899999999999999,0.28599999999999998]
[null,"Hombres",0.35099999999999998,0.41399999999999998]
["Porcentaje de mujeres y hombres sin ingresos propios (ENAHO, 2019)","Mujeres",0.38400000000000001,0.29399999999999998]
[null,"Hombres",0.14399999999999999,0.11899999999999999]
["PARTICIPACIÓN POLÍTICA"]
["Número de Alcaldes/as Provinciales y Distritales 2023-2026 (JNE, 2023)","A) Alcaldes Provinciales (8 Provincias)"]
[null,"Mujeres",0,9]
[null,"Hombres",8,187]
[null,"B) Alcaldes Distritales (45 Distritos)"]
[null,"Mujeres",5,93]
[null,"Hombres",40,1601]
["VIOLENCIA Y OTROS DELITOS"]
[{"$f":"+'26_Regiones'!$Y$7","v":"Violencia familiar contra la mujer ejercida alguna vez por el esposo o compañero (ENDES, 2022)"},"Total",{"$f":"'26_Regiones'!Y27","v":0.54229257192830604},{"$f":"'26_Regiones'!$Y$10","v":0.55700000000000005}]
[null,"Psicológica",{"$f":"'26_Regiones'!Z27","v":0.48971584209619112},{"$f":"'26_Regiones'!$Z$10","v":0.51900000000000002}]
[null,"Física",{"$f":"'26_Regiones'!AA27","v":0.25989093722276624},{"$f":"'26_Regiones'!$AA$10","v":0.27800000000000002}]
[null,"Sexual",{"$f":"'26_Regiones'!AB27","v":2.5989093722276623E-3},{"$f":"'26_Regiones'!$AB$10","v":6.7000000000000004E-2}]
[{"$f":"+'26_Regiones'!$AC$7","v":"Violencia física y/o sexual ejercida por el esposo o compañero en los últimos 12 meses (ENDES, 2022)"},null,{"$f":"'26_Regiones'!AC27","v":0.10416994042238302},{"$f":"'26_Regiones'!$AC$10","v":8.5999999999999993E-2}]
["Mujeres víctimas del delito de trata de personas con denuncia registrada en la PNP (Ministerio Público, 2020)",null,13,342]
[{"$f":"+'26_Regiones'!AE7","v":"Número de casos de víctimas de feminicidio (Programa Aurora, Ene - May 2023)"},null,{"$f":"+'26_Regiones'!AE27","v":1},{"$f":"+'26_Regiones'!AE10","v":68}]
[]
["*Se han incluido indicadores claves con desagregado a nivel regional"]

{"sheet":"Madre_de_Dios","index":18,"n_rows":45,"n_cols":4,"rows_kept":45,"cut":false,"hidden":false,"merged":[[36,0,36,3],[37,0,40,0],[41,0,41,1],[42,0,42,1],[43,0,43,1],[22,0,24,0],[25,0,26,0],[27,0,28,0],[29,0,29,3],[30,0,35,0],[30,1,30,3],[33,1,33,3],[20,0,21,0],[4,0,4,3],[6,0,6,1],[7,0,7,3],[8,0,9,0],[10,0,12,0],[14,0,14,3],[15,0,15,1],[16,0,16,1],[17,0,17,1],[18,0,18,3],[19,0,19,1]]}
[]
[]
[]
[]
["INDICADORES SOCIODEMOGRÁFICOS Y BRECHAS DE GÉNERO EN EL DEPARTAMENTO DE MADRE DE DIOS"]
[]
["INDICADORES SOECIOENCÓMICOS *",null,"MADRE DE DIOS","NACIONAL"]
["EDUCACIÓN"]
["Tasa de analfabetismo de personas de 15 años a más (ENAHO, 2019)","Mujeres","2021-08-05","8.1%"]
[null,"Hombres","2021-09-01","3.0%"]
["Tasa neta de asistencia en educación en la modalidad básica regular (MINEDU, 2020)","Educación inicial","73.3",0.81200000000000006]
[null,"Educación primaria","96.4",0.94399999999999995]
[null,"Educación secundaria","79.2",0.83499999999999996]
["Tasa de deserción escolar en la educación básica (MINEDU, 2020)","Total","2021-01-08",9.0999999999999998E-2]
["SALUD"]
[{"$f":"+'26_Regiones'!$H$7","v":"Adolescentes de 15 a 19 años de edad alguna vez embarazadas (ENDES, 2022)"},null,{"$f":"'26_Regiones'!H28","v":9.6635163915609557E-2},{"$f":"'26_Regiones'!$H$10","v":7.4999999999999997E-2}]
[{"$f":"+'26_Regiones'!$I$7","v":"Porcentaje de mujeres que usan métodos anticonceptivos (ENDES, 2022)"},null,{"$f":"'26_Regiones'!I28","v":0.73925457077984769},{"$f":"'26_Regiones'!$I$10","v":0.77900000000000003}]
[{"$f":"+'26_Regiones'!$J$7","v":"Porcentaje de mujeres con necesidad insatisfecha de planificación familiar (ENDES, 2022)"},null,{"$f":"'26_Regiones'!J28","v":8.707736249168338E-2},{"$f":"'26_Regiones'!$J$10","v":5.8999999999999997E-2}]
["ECONOMÍA"]
["Porcentaje de mujeres jefas de hogar (ENAHO, 2020)",null,"21.09%","17.71%"]
["Tasa de actividad económica de mujeres y hombres (ENAHO, 2020)","Mujeres","57.25%",0.54510000000000003]
[null,"Hombres","81.33%",0.74970000000000003]
["Porcentaje de mujeres ocupadas, según sector económico (ENAHO, 2019)","A) Sector Primario","2021-08-12","21.4%"]
[null,"B) Sector Secundario","2021-05-06","8.6%"]
[null,"C) Sector Terciario","80.7","70.0%"]
["Porcentaje de mujeres y hombres que están afiliados a un sistema de pensión (ENAHO, 2020)","Mujeres","20.49%",0.28789999999999999]
[null,"Hombres","32.49%",0.41699999999999998]
["Porcentaje de mujeres y hombres sin ingresos propios (ENAHO, 2020)","Mujeres","29.7%",0.36]
[null,"Hombres","15.6%",0.19700000000000001]
["PARTICIPACIÓN POLÍTICA"]
["Número de Alcaldes/as Provinciales y Distritales 2023-2026 (JNE, 2023)","A) Alcaldes Provinciales (3 Provincias)"]
[null,"Mujeres",0,9]
[null,"Hombres",3,187]
[null,"B) Alcaldes Distritales (8 Distritos)"]
[null,"Mujeres",1,93]
[null,"Hombres",7,1601]
["VIOLENCIA Y OTROS DELITOS"]
[{"$f":"+'26_Regiones'!$Y$7","v":"Violencia familiar contra la mujer ejercida alguna vez por el esposo o compañero (ENDES, 2022)"},"Total",{"$f":"'26_Regiones'!Y28","v":0.65572440396774312},{"$f":"'26_Regiones'!$Y$10","v":0.55700000000000005}]
[null,"Psicológica",{"$f":"'26_Regiones'!Z28","v":0.60138212091137766},{"$f":"'26_Regiones'!$Z$10","v":0.51900000000000002}]
[null,"Física",{"$f":"'26_Regiones'!AA28","v":0.32393759818591844},{"$f":"'26_Regiones'!$AA$10","v":0.27800000000000002}]
[null,"Sexual",{"$f":"'26_Regiones'!AB28","v":3.2393759818591843E-3},{"$f":"'26_Regiones'!$AB$10","v":6.7000000000000004E-2}]
[{"$f":"+'26_Regiones'!$AC$7","v":"Violencia física y/o sexual ejercida por el esposo o compañero en los últimos 12 meses (ENDES, 2022)"},null,{"$f":"'26_Regiones'!AC28","v":0.105},{"$f":"'26_Regiones'!$AC$10","v":8.5999999999999993E-2}]
["Mujeres víctimas del delito de trata de personas con denuncia registrada en la PNP (Ministerio Público, 2020)",null,5,342]
[{"$f":"+'26_Regiones'!AE7","v":"Número de casos de víctimas de feminicidio (Programa Aurora, Ene - May 2023)"},null,{"$f":"+'26_Regiones'!AE28","v":0},{"$f":"+'26_Regiones'!AE10","v":68}]
["*Se han incluido indicadores claves con desagregado a nivel regional"]

{"sheet":"Moquegua","index":19,"n_rows":45,"n_cols":4,"rows_kept":45,"cut":false,"hidden":false,"merged":[[36,0,36,3],[37,0,40,0],[41,0,41,1],[42,0,42,1],[43,0,43,1],[22,0,24,0],[25,0,26,0],[27,0,28,0],[29,0,29,3],[30,0,35,0],[30,1,30,3],[33,1,33,3],[20,0,21,0],[4,0,4,3],[6,0,6,1],[7,0,7,3],[8,0,9,0],[10,0,12,0],[14,0,14,3],[15,0,15,1],[16,0,16,1],[17,0,17,1],[18,0,18,3],[19,0,19,1]]}
[]
[]
[]
[]
["INDICADORES SOCIODEMOGRÁFICOS Y BRECHAS DE GÉNERO EN EL DEPARTAMENTO DE MOQUEGUA"]
[]
["INDICADORES SOECIOENCÓMICOS *",null,"MOQUEGUA","NACIONAL"]
["EDUCACIÓN"]
["Tasa de analfabetismo de personas de 15 años a más (ENAHO, 2019)","Mujeres","2021-01-08","8.1%"]
[null,"Hombres","2021-01-01","3.0%"]
["Tasa neta de asistencia en educación en la modalidad básica regular (MINEDU, 2020)","Educación inicial","87.1",0.81200000000000006]
[null,"Educación primaria","96.1",0.94399999999999995]
[null,"Educación secundaria","94.9",0.83499999999999996]
["Tasa de deserción escolar en la educación básica (MINEDU, 2020)","Total",2,9.0999999999999998E-2]
["SALUD"]
[{"$f":"+'26_Regiones'!$H$7","v":"Adolescentes de 15 a 19 años de edad alguna vez embarazadas (ENDES, 2022)"},null,{"$f":"'26_Regiones'!H29","v":3.9571416394678559E-2},{"$f":"'26_Regiones'!$H$10","v":7.4999999999999997E-2}]
[{"$f":"+'26_Regiones'!$I$7","v":"Porcentaje de mujeres que usan métodos anticonceptivos (ENDES, 2022)"},null,{"$f":"'26_Regiones'!I29","v":0.78048760668955108},{"$f":"'26_Regiones'!$I$10","v":0.77900000000000003}]
[{"$f":"+'26_Regiones'!$J$7","v":"Porcentaje de mujeres con necesidad insatisfecha de planificación familiar (ENDES, 2022)"},null,{"$f":"'26_Regiones'!J29","v":5.1957999431405923E-2},{"$f":"'26_Regiones'!$J$10","v":5.8999999999999997E-2}]
["ECONOMÍA"]
["Porcentaje de mujeres jefas de hogar (ENAHO, 2020)",null,"20.81%","17.71%"]
["Tasa de actividad económica de mujeres y hombres (ENAHO, 2020)","Mujeres","57.44%",0.54510000000000003]
[null,"Hombres","75.72%",0.74970000000000003]
["Porcentaje de mujeres ocupadas, según sector económico (ENAHO, 2019)","A) Sector Primario","2021-07-21","21.4%"]
[null,"B) Sector Secundario","2021-04-07","8.6%"]
[null,"C) Sector Terciario",71,"70.0%"]
["Porcentaje de mujeres y hombres que están afiliados a un sistema de pensión (ENAHO, 2020)","Mujeres","42.31%",0.28789999999999999]
[null,"Hombres","77.21%",0.41699999999999998]
["Porcentaje de mujeres y hombres sin ingresos propios (ENAHO, 2020)","Mujeres","30.0%",0.36]
[null,"Hombres","15.7%",0.19700000000000001]
["PARTICIPACIÓN POLÍTICA"]
["Número de Alcaldes/as Provinciales y Distritales 2023-2026 (JNE, 2023)","A) Alcaldes Provinciales (3 Provincias)"]
[null,"Mujeres",1,9]
[null,"Hombres",2,187]
[null,"B) Alcaldes Distritales (18 Distritos)"]
[null,"Mujeres",1,93]
[null,"Hombres",17,1601]
["VIOLENCIA Y OTROS DELITOS"]
[{"$f":"+'26_Regiones'!$Y$7","v":"Violencia familiar contra la mujer ejercida alguna vez por el esposo o compañero (ENDES, 2022)"},"Total",{"$f":"'26_Regiones'!Y29","v":0.60846020343906948},{"$f":"'26_Regiones'!$Y$10","v":0.55700000000000005}]
[null,"Psicológica",{"$f":"'26_Regiones'!Z29","v":0.56241726406468218},{"$f":"'26_Regiones'!$Z$10","v":0.51900000000000002}]
[null,"Física",{"$f":"'26_Regiones'!AA29","v":0.31433428749467812},{"$f":"'26_Regiones'!$AA$10","v":0.27800000000000002}]
[null,"Sexual",{"$f":"'26_Regiones'!AB29","v":3.1433428749467812E-3},{"$f":"'26_Regiones'!$AB$10","v":6.7000000000000004E-2}]
[{"$f":"+'26_Regiones'!$AC$7","v":"Violencia física y/o sexual ejercida por el esposo o compañero en los últimos 12 meses (ENDES, 2022)"},null,{"$f":"'26_Regiones'!AC29","v":6.4000000000000001E-2},{"$f":"'26_Regiones'!$AC$10","v":8.5999999999999993E-2}]
["Mujeres víctimas del delito de trata de personas con denuncia registrada en la PNP (Ministerio Público, 2020)",null,1,342]
[{"$f":"+'26_Regiones'!AE7","v":"Número de casos de víctimas de feminicidio (Programa Aurora, Ene - May 2023)"},null,{"$f":"+'26_Regiones'!AE29","v":0},{"$f":"+'26_Regiones'!AE10","v":68}]
["*Se han incluido indicadores claves con desagregado a nivel regional"]

{"sheet":"Pasco","index":20,"n_rows":45,"n_cols":4,"rows_kept":45,"cut":false,"hidden":false,"merged":[[36,0,36,3],[37,0,40,0],[41,0,41,1],[42,0,42,1],[43,0,43,1],[22,0,24,0],[25,0,26,0],[27,0,28,0],[29,0,29,3],[30,0,35,0],[30,1,30,3],[33,1,33,3],[20,0,21,0],[4,0,4,3],[6,0,6,1],[7,0,7,3],[8,0,9,0],[10,0,12,0],[14,0,14,3],[15,0,15,1],[16,0,16,1],[17,0,17,1],[18,0,18,3],[19,0,19,1]]}
[]
[]
[]
[]
["INDICADORES SOCIODEMOGRÁFICOS Y BRECHAS DE GÉNERO EN EL DEPARTAMENTO DE PASCO"]
[]
["INDICADORES SOECIOENCÓMICOS *",null,"PASCO","NACIONAL"]
["EDUCACIÓN"]
["Tasa de analfabetismo de personas de 15 años a más (ENAHO, 2019)","Mujeres",10,"8.1%"]
[null,"Hombres","2021-06-02","3.0%"]
["Tasa neta de asistencia en educación en la modalidad básica regular (MINEDU, 2020)","Educación inicial","84.5",0.81200000000000006]
[null,"Educación primaria","96.1",0.94399999999999995]
[null,"Educación secundaria","87.3",0.83499999999999996]
["Tasa de deserción escolar en la educación básica (MINEDU, 2020)","Total","2021-04-03",9.0999999999999998E-2]
["SALUD"]
[{"$f":"+'26_Regiones'!$H$7","v":"Adolescentes de 15 a 19 años de edad alguna vez embarazadas (ENDES, 2022)"},null,{"$f":"'26_Regiones'!H30","v":0.10724373857305446},8.3000000000000004E-2]
[{"$f":"+'26_Regiones'!$I$7","v":"Porcentaje de mujeres que usan métodos anticonceptivos (ENDES, 2022)"},null,{"$f":"'26_Regiones'!I30","v":0.75764640930898042},"77.4%"]
[{"$f":"+'26_Regiones'!$J$7","v":"Porcentaje de mujeres con necesidad insatisfecha de planificación familiar (ENDES, 2022)"},null,{"$f":"'26_Regiones'!J30","v":5.9211373688729502E-2},"6.1%"]
["ECONOMÍA"]
["Porcentaje de mujeres jefas de hogar (ENAHO, 2020)",null,"14.90%","17.71%"]
["Tasa de actividad económica de mujeres y hombres (ENAHO, 2020)","Mujeres","65.33%",0.54510000000000003]
[null,"Hombres","86.56%",0.74970000000000003]
["Porcentaje de mujeres ocupadas, según sector económico (ENAHO, 2019)","A) Sector Primario","38.8","21.4%"]
[null,"B) Sector Secundario","2021-07-06","8.6%"]
[null,"C) Sector Terciario","54.6","70.0%"]
["Porcentaje de mujeres y hombres que están afiliados a un sistema de pensión (ENAHO, 2020)","Mujeres","14.56%",0.28789999999999999]
[null,"Hombres","37.80%",0.41699999999999998]
["Porcentaje de mujeres y hombres sin ingresos propios (ENAHO, 2020)","Mujeres","32.4%",0.36]
[null,"Hombres","16.4%",0.19700000000000001]
["PARTICIPACIÓN POLÍTICA"]
["Número de Alcaldes/as Provinciales y Distritales 2023-2026 (JNE, 2023)","A) Alcaldes Provinciales (3 Provincias)"]
[null,"Mujeres",0,9]
[null,"Hombres",3,187]
[null,"B) Alcaldes Distritales (26 Distritos)"]
[null,"Mujeres",4,93]
[null,"Hombres",22,1601]
["VIOLENCIA Y OTROS DELITOS"]
[{"$f":"+'26_Regiones'!$Y$7","v":"Violencia familiar contra la mujer ejercida alguna vez por el esposo o compañero (ENDES, 2022)"},"Total",{"$f":"'26_Regiones'!Y30","v":0.49557812648531063},{"$f":"'26_Regiones'!$Y$10","v":0.55700000000000005}]
[null,"Psicológica",{"$f":"'26_Regiones'!Z30","v":0.45119064830824906},{"$f":"'26_Regiones'!$Z$10","v":0.51900000000000002}]
[null,"Física",{"$f":"'26_Regiones'!AA30","v":0.30282943895000369},{"$f":"'26_Regiones'!$AA$10","v":0.27800000000000002}]
[null,"Sexual",{"$f":"'26_Regiones'!AB30","v":3.0282943895000368E-3},{"$f":"'26_Regiones'!$AB$10","v":6.7000000000000004E-2}]
[{"$f":"+'26_Regiones'!$AC$7","v":"Violencia física y/o sexual ejercida por el esposo o compañero en los últimos 12 meses (ENDES, 2022)"},null,{"$f":"'26_Regiones'!AC30","v":7.9000000000000001E-2},{"$f":"'26_Regiones'!$AC$10","v":8.5999999999999993E-2}]
["Mujeres víctimas del delito de trata de personas con denuncia registrada en la PNP (Ministerio Público, 2020)",null,5,342]
[{"$f":"+'26_Regiones'!AE7","v":"Número de casos de víctimas de feminicidio (Programa Aurora, Ene - May 2023)"},null,{"$f":"+'26_Regiones'!AE30","v":2},{"$f":"+'26_Regiones'!AE10","v":68}]
["*Se han incluido indicadores claves con desagregado a nivel regional"]

{"sheet":"Piura","index":21,"n_rows":46,"n_cols":4,"rows_kept":46,"cut":false,"hidden":false,"merged":[[36,0,36,3],[37,0,40,0],[41,0,41,1],[42,0,42,1],[43,0,43,1],[22,0,24,0],[25,0,26,0],[27,0,28,0],[29,0,29,3],[30,0,35,0],[30,1,30,3],[33,1,33,3],[20,0,21,0],[4,0,4,3],[6,0,6,1],[7,0,7,3],[8,0,9,0],[10,0,12,0],[14,0,14,3],[15,0,15,1],[16,0,16,1],[17,0,17,1],[18,0,18,3],[19,0,19,1]]}
[]
[]
[]
[]
["INDICADORES SOCIODEMOGRÁFICOS Y BRECHAS DE GÉNERO EN EL DEPARTAMENTO DE PIURA"]
[]
["INDICADORES SOECIOENCÓMICOS *",null,"PIURA","NACIONAL"]
["EDUCACIÓN"]
["Tasa de analfabetismo de personas de 15 años a más (ENAHO, 2019)","Mujeres","9.3%","8.1%"]
[null,"Hombres","4.9%","3.0%"]
["Tasa neta de asistencia en educación en la modalidad básica regular (MINEDU, 2020)","Educación inicial","89.2%",0.81200000000000006]
[null,"Educación primaria","95.1%",0.94399999999999995]
[null,"Educación secundaria","83.7%",0.83499999999999996]
["Tasa de deserción escolar en la educación básica (MINEDU, 2020)","Total","13.1%",9.0999999999999998E-2]
["SALUD"]
[{"$f":"+'26_Regiones'!$H$7","v":"Adolescentes de 15 a 19 años de edad alguna vez embarazadas (ENDES, 2022)"},null,{"$f":"'26_Regiones'!H31","v":9.9192132042921891E-2},8.3000000000000004E-2]
[{"$f":"+'26_Regiones'!$I$7","v":"Porcentaje de mujeres que usan métodos anticonceptivos (ENDES, 2022)"},null,{"$f":"'26_Regiones'!I31","v":0.80174058965043782},"77.4%"]
[{"$f":"+'26_Regiones'!$J$7","v":"Porcentaje de mujeres con necesidad insatisfecha de planificación familiar (ENDES, 2022)"},null,{"$f":"'26_Regiones'!J31","v":3.5334410185936575E-2},"6.1%"]
["ECONOMÍA"]
["Porcentaje de mujeres jefas de hogar (ENAHO, 2020)",null,"12.30%","17.71%"]
["Tasa de actividad económica de mujeres y hombres (ENAHO, 2020)","Mujeres","53.44%",0.54510000000000003]
[null,"Hombres","78.58%",0.74970000000000003]
["Porcentaje de mujeres ocupadas, según sector económico (ENAHO, 2019)","A) Sector Primario","15.4%","21.4%"]
[null,"B) Sector Secundario","11.9%","8.6%"]
[null,"C) Sector Terciario","72.7%","70.0%"]
["Porcentaje de mujeres y hombres que acceden a un sistema de pensión (ENAHO, 2019)","Mujeres","28.82%",0.28789999999999999]
[null,"Hombres","42.35%",0.41699999999999998]
["Porcentaje de mujeres y hombres sin ingresos propios (ENAHO, 2020)","Mujeres","33.3%",0.36]
[null,"Hombres","15.7%",0.19700000000000001]
["PARTICIPACIÓN POLÍTICA"]
["Número de Alcaldes/as Provinciales y Distritales 2023-2026 (JNE, 2023)","A) Alcaldes Provinciales (8 Provincias)"]
[null,"Mujeres",1,9]
[null,"Hombres",7,187]
[null,"B) Alcaldes Distritales (57 Distritos)"]
[null,"Mujeres",2,93]
[null,"Hombres",55,1601]
["VIOLENCIA Y OTROS DELITOS"]
[{"$f":"+'26_Regiones'!$Y$7","v":"Violencia familiar contra la mujer ejercida alguna vez por el esposo o compañero (ENDES, 2022)"},"Total",{"$f":"'26_Regiones'!Y31","v":0.55973465318745752},{"$f":"'26_Regiones'!$Y$10","v":0.55700000000000005}]
[null,"Psicológica",{"$f":"'26_Regiones'!Z31","v":0.5160223308905596},{"$f":"'26_Regiones'!$Z$10","v":0.51900000000000002}]
[null,"Física",{"$f":"'26_Regiones'!AA31","v":0.24188977081581645},{"$f":"'26_Regiones'!$AA$10","v":0.27800000000000002}]
[null,"Sexual",{"$f":"'26_Regiones'!AB31","v":2.4188977081581646E-3},{"$f":"'26_Regiones'!$AB$10","v":6.7000000000000004E-2}]
[{"$f":"+'26_Regiones'!$AC$7","v":"Violencia física y/o sexual ejercida por el esposo o compañero en los últimos 12 meses (ENDES, 2022)"},null,{"$f":"'26_Regiones'!AC31","v":9.0999999999999998E-2},{"$f":"'26_Regiones'!$AC$10","v":8.5999999999999993E-2}]
["Mujeres víctimas del delito de trata de personas con denuncia registrada en la PNP (Ministerio Público, 2020)",null,3,342]
[{"$f":"+'26_Regiones'!AE7","v":"Número de casos de víctimas de feminicidio (Programa Aurora, Ene - May 2023)"},null,{"$f":"+'26_Regiones'!AE31","v":1},{"$f":"+'26_Regiones'!AE10","v":68}]
[]
["*Se han incluido indicadores claves con desagregado a nivel regional"]

{"sheet":"Puno","index":22,"n_rows":46,"n_cols":4,"rows_kept":46,"cut":false,"hidden":false,"merged":[[36,0,36,3],[37,0,40,0],[41,0,41,1],[42,0,42,1],[43,0,43,1],[22,0,24,0],[25,0,26,0],[27,0,28,0],[29,0,29,3],[30,0,35,0],[30,1,30,3],[33,1,33,3],[20,0,21,0],[4,0,4,3],[6,0,6,1],[7,0,7,3],[8,0,9,0],[10,0,12,0],[14,0,14,3],[15,0,15,1],[16,0,16,1],[17,0,17,1],[18,0,18,3],[19,0,19,1]]}
[]
[]
[]
[]
["INDICADORES SOCIODEMOGRÁFICOS Y BRECHAS DE GÉNERO EN EL DEPARTAMENTO DE PUNO"]
[]
["INDICADORES SOECIOENCÓMICOS *",null,"PUNO","NACIONAL"]
["EDUCACIÓN"]
["Tasa de analfabetismo de personas de 15 años a más (ENAHO, 2019)","Mujeres","14.2%","8.1%"]
[null,"Hombres","3.1%","3.0%"]
["Tasa neta de asistencia en educación en la modalidad básica regular (MINEDU, 2020)","Educación inicial",0.65,0.81200000000000006]
[null,"Educación primaria","99.3%",0.94399999999999995]
[null,"Educación secundaria","93.8%",0.83499999999999996]
["Tasa de deserción escolar en la educación básica (MINEDU, 2020)","Total","2.3%",9.0999999999999998E-2]
["SALUD"]
[{"$f":"+'26_Regiones'!$H$7","v":"Adolescentes de 15 a 19 años de edad alguna vez embarazadas (ENDES, 2022)"},null,{"$f":"'26_Regiones'!H32","v":4.6582430629821189E-2},8.3000000000000004E-2]
[{"$f":"+'26_Regiones'!$I$7","v":"Porcentaje de mujeres que usan métodos anticonceptivos (ENDES, 2022)"},null,{"$f":"'26_Regiones'!I32","v":0.73649326274655091},"77.4%"]
[{"$f":"+'26_Regiones'!$J$7","v":"Porcentaje de mujeres con necesidad insatisfecha de planificación familiar (ENDES, 2022)"},null,{"$f":"'26_Regiones'!J32","v":8.365092033919129E-2},"6.1%"]
["ECONOMÍA"]
["Porcentaje de mujeres jefas de hogar (ENAHO, 2020)",null,"19.24%","17.71%"]
["Tasa de actividad económica de mujeres y hombres (ENAHO, 2020)","Mujeres","72.58%",0.54510000000000003]
[null,"Hombres","80.47%",0.74970000000000003]
["Porcentaje de mujeres ocupadas, según sector económico (ENAHO, 2019)","A) Sector Primario","44.1%","21.4%"]
[null,"B) Sector Secundario","7.9%","8.6%"]
[null,"C) Sector Terciario","48.1%","70.0%"]
["Porcentaje de mujeres y hombres que acceden a un sistema de pensión (ENAHO, 2019)","Mujeres","9.96%",0.28789999999999999]
[null,"Hombres","24.91%",0.41699999999999998]
["Porcentaje de mujeres y hombres sin ingresos propios (ENAHO, 2020)","Mujeres","25.0%",0.36]
[null,"Hombres","17.3%",0.19700000000000001]
["PARTICIPACIÓN POLÍTICA"]
["Número de Alcaldes/as Provinciales y Distritales 2023-2026 (JNE, 2023)","A) Alcaldes Provinciales (13 Provincias)"]
[null,"Mujeres",0,9]
[null,"Hombres",13,187]
[null,"B) Alcaldes Distritales (97 Distritos)"]
[null,"Mujeres",2,93]
[null,"Hombres",95,1601]
["VIOLENCIA Y OTROS DELITOS"]
[{"$f":"+'26_Regiones'!$Y$7","v":"Violencia familiar contra la mujer ejercida alguna vez por el esposo o compañero (ENDES, 2022)"},"Total",{"$f":"'26_Regiones'!Y32","v":0.54446589625932806},{"$f":"'26_Regiones'!$Y$10","v":0.55700000000000005}]
[null,"Psicológica",{"$f":"'26_Regiones'!Z32","v":0.50739829723486563},{"$f":"'26_Regiones'!$Z$10","v":0.51900000000000002}]
[null,"Física",{"$f":"'26_Regiones'!AA32","v":0.33718589165967011},{"$f":"'26_Regiones'!$AA$10","v":0.27800000000000002}]
[null,"Sexual",{"$f":"'26_Regiones'!AB32","v":3.371858916596701E-3},{"$f":"'26_Regiones'!$AB$10","v":6.7000000000000004E-2}]
[{"$f":"+'26_Regiones'!$AC$7","v":"Violencia física y/o sexual ejercida por el esposo o compañero en los últimos 12 meses (ENDES, 2022)"},null,{"$f":"'26_Regiones'!AC32","v":8.4836444605173617E-2},{"$f":"'26_Regiones'!$AC$10","v":8.5999999999999993E-2}]
["Mujeres víctimas del delito de trata de personas con denuncia registrada en la PNP (Ministerio Público, 2020)",null,1,342]
[{"$f":"+'26_Regiones'!AE7","v":"Número de casos de víctimas de feminicidio (Programa Aurora, Ene - May 2023)"},null,{"$f":"+'26_Regiones'!AE32","v":1},{"$f":"+'26_Regiones'!AE10","v":68}]
[]
["*Se han incluido indicadores claves con desagregado a nivel regional"]

{"sheet":"San_Martin","index":23,"n_rows":46,"n_cols":4,"rows_kept":46,"cut":false,"hidden":false,"merged":[[36,0,36,3],[37,0,40,0],[41,0,41,1],[42,0,42,1],[43,0,43,1],[22,0,24,0],[25,0,26,0],[27,0,28,0],[29,0,29,3],[30,0,35,0],[30,1,30,3],[33,1,33,3],[20,0,21,0],[4,0,4,3],[6,0,6,1],[7,0,7,3],[8,0,9,0],[10,0,12,0],[14,0,14,3],[15,0,15,1],[16,0,16,1],[17,0,17,1],[18,0,18,3],[19,0,19,1]]}
[]
[]
[]
[]
["INDICADORES SOCIODEMOGRÁFICOS Y BRECHAS DE GÉNERO EN EL DEPARTAMENTO DE SAN MARTÍN"]
[]
["INDICADORES SOECIOENCÓMICOS *",null,"SAN MARTÍN","NACIONAL"]
["EDUCACIÓN"]
["Tasa de analfabetismo de personas de 15 años a más (ENAHO, 2019)","Mujeres","10.3%","8.1%"]
[null,"Hombres","5.00%","3.0%"]
["Tasa neta de asistencia en educación en la modalidad básica regular (MINEDU, 2020)","Educación inicial","82.9%",0.81200000000000006]
[null,"Educación primaria","93.5%",0.94399999999999995]
[null,"Educación secundaria","75.5%",0.83499999999999996]
["Tasa de deserción escolar en la educación básica (MINEDU, 2020)","Total",0.17,9.0999999999999998E-2]
["SALUD"]
[{"$f":"+'26_Regiones'!$H$7","v":"Adolescentes de 15 a 19 años de edad alguna vez embarazadas (ENDES, 2022)"},null,{"$f":"'26_Regiones'!H33","v":0.11261920966665323},8.3000000000000004E-2]
[{"$f":"+'26_Regiones'!$I$7","v":"Porcentaje de mujeres que usan métodos anticonceptivos (ENDES, 2022)"},null,{"$f":"'26_Regiones'!I33","v":0.78439489560600051},"77.4%"]
[{"$f":"+'26_Regiones'!$J$7","v":"Porcentaje de mujeres con necesidad insatisfecha de planificación familiar (ENDES, 2022)"},null,{"$f":"'26_Regiones'!J33","v":5.1456121778069165E-2},"6.1%"]
["ECONOMÍA"]
["Porcentaje de mujeres jefas de hogar (ENAHO, 2020)",null,"11.31%","17.71%"]
["Tasa de actividad económica de mujeres y hombres (ENAHO, 2020)","Mujeres","59.10%",0.54510000000000003]
[null,"Hombres","87.60%",0.74970000000000003]
["Porcentaje de mujeres ocupadas, según sector económico (ENAHO, 2019)","A) Sector Primario","33.6%","21.4%"]
[null,"B) Sector Secundario","4.7%","8.6%"]
[null,"C) Sector Terciario","61.6%","70.0%"]
["Porcentaje de mujeres y hombres que acceden a un sistema de pensión (ENAHO, 2019)","Mujeres","11.70%",0.28789999999999999]
[null,"Hombres","21.30%",0.41699999999999998]
["Porcentaje de mujeres y hombres sin ingresos propios (ENAHO, 2020)","Mujeres","36.7%",0.36]
[null,"Hombres","12.4%",0.19700000000000001]
["PARTICIPACIÓN POLÍTICA"]
["Número de Alcaldes/as Provinciales y Distritales 2023-2026 (JNE, 2023)","A) Alcaldes Provinciales (10 Provincias)"]
[null,"Mujeres",1,9]
[null,"Hombres",9,187]
[null,"B) Alcaldes Distritales (68 Distritos)"]
[null,"Mujeres",2,93]
[null,"Hombres",66,1601]
["VIOLENCIA Y OTROS DELITOS"]
[{"$f":"+'26_Regiones'!$Y$7","v":"Violencia familiar contra la mujer ejercida alguna vez por el esposo o compañero (ENDES, 2022)"},"Total",{"$f":"'26_Regiones'!Y33","v":0.56135476301893616},{"$f":"'26_Regiones'!$Y$10","v":0.55700000000000005}]
[null,"Psicológica",{"$f":"'26_Regiones'!Z33","v":0.51945430973775442},{"$f":"'26_Regiones'!$Z$10","v":0.51900000000000002}]
[null,"Física",{"$f":"'26_Regiones'!AA33","v":0.30517161459076175},{"$f":"'26_Regiones'!$AA$10","v":0.27800000000000002}]
[null,"Sexual",{"$f":"'26_Regiones'!AB33","v":3.0517161459076175E-3},{"$f":"'26_Regiones'!$AB$10","v":6.7000000000000004E-2}]
[{"$f":"+'26_Regiones'!$AC$7","v":"Violencia física y/o sexual ejercida por el esposo o compañero en los últimos 12 meses (ENDES, 2022)"},null,{"$f":"'26_Regiones'!AC33","v":6.5000000000000002E-2},{"$f":"'26_Regiones'!$AC$10","v":8.5999999999999993E-2}]
["Mujeres víctimas del delito de trata de personas con denuncia registrada en la PNP (Ministerio Público, 2020)",null,8,342]
[{"$f":"+'26_Regiones'!AE7","v":"Número de casos de víctimas de feminicidio (Programa Aurora, Ene - May 2023)"},null,{"$f":"+'26_Regiones'!AE33","v":4},{"$f":"+'26_Regiones'!AE10","v":68}]
[]
["*Se han incluido indicadores claves con desagregado a nivel regional"]

{"sheet":"Tacna","index":24,"n_rows":45,"n_cols":4,"rows_kept":45,"cut":false,"hidden":false,"merged":[[36,0,36,3],[37,0,40,0],[41,0,41,1],[42,0,42,1],[43,0,43,1],[22,0,24,0],[25,0,26,0],[27,0,28,0],[29,0,29,3],[30,0,35,0],[30,1,30,3],[33,1,33,3],[20,0,21,0],[4,0,4,3],[6,0,6,1],[7,0,7,3],[8,0,9,0],[10,0,12,0],[14,0,14,3],[15,0,15,1],[16,0,16,1],[17,0,17,1],[18,0,18,3],[19,0,19,1]]}
[]
[]
[]
[]
["INDICADORES SOCIODEMOGRÁFICOS Y BRECHAS DE GÉNERO EN EL DEPARTAMENTO DE TACNA"]
[]
["INDICADORES SOECIOENCÓMICOS *",null,"TACNA","NACIONAL"]
["EDUCACIÓN"]
["Tasa de analfabetismo de personas de 15 años a más (ENAHO, 2019)","Mujeres","2021-03-05","8.1%"]
[null,"Hombres","2021-04-01","3.0%"]
["Tasa neta de asistencia en educación en la modalidad básica regular (MINEDU, 2020)","Educación inicial",74,0.81200000000000006]
[null,"Educación primaria","96.4",0.94399999999999995]
[null,"Educación secundaria","91.2",0.83499999999999996]
["Tasa de deserción escolar en la educación básica (MINEDU, 2020)","Total","2021-03-03",9.0999999999999998E-2]
["SALUD"]
[{"$f":"+'26_Regiones'!$H$7","v":"Adolescentes de 15 a 19 años de edad alguna vez embarazadas (ENDES, 2022)"},null,{"$f":"'26_Regiones'!H34","v":3.0179245718593067E-2},8.3000000000000004E-2]
[{"$f":"+'26_Regiones'!$I$7","v":"Porcentaje de mujeres que usan métodos anticonceptivos (ENDES, 2022)"},null,{"$f":"'26_Regiones'!I34","v":0.76169381558743221},"77.4%"]
[{"$f":"+'26_Regiones'!$J$7","v":"Porcentaje de mujeres con necesidad insatisfecha de planificación familiar (ENDES, 2022)"},null,{"$f":"'26_Regiones'!J34","v":8.380274596255935E-2},"6.1%"]
["ECONOMÍA"]
["Porcentaje de mujeres jefas de hogar (ENAHO, 2020)",null,"22.04%","17.71%"]
["Tasa de actividad económica de mujeres y hombres (ENAHO, 2020)","Mujeres","50.08%",0.54510000000000003]
[null,"Hombres","64.12%",0.74970000000000003]
["Porcentaje de mujeres ocupadas, según sector económico (ENAHO, 2019)","A) Sector Primario","2021-07-13","21.4%"]
[null,"B) Sector Secundario","2021-04-08","8.6%"]
[null,"C) Sector Terciario","77.9","70.0%"]
["Porcentaje de mujeres y hombres que están afiliados a un sistema de pensión (ENAHO, 2020)","Mujeres","38.41%",0.28789999999999999]
[null,"Hombres","56.37%",0.41699999999999998]
["Porcentaje de mujeres y hombres sin ingresos propios (ENAHO, 2020)","Mujeres","36.6%",0.36]
[null,"Hombres","23.4%",0.19700000000000001]
["PARTICIPACIÓN POLÍTICA"]
["Número de Alcaldes/as Provinciales y Distritales 2023-2026 (JNE, 2023)","A) Alcaldes Provinciales (4 Provincias)"]
[null,"Mujeres",0,9]
[null,"Hombres",4,187]
[null,"B) Alcaldes Distritales (24 Distritos)"]
[null,"Mujeres",2,93]
[null,"Hombres",22,1601]
["VIOLENCIA Y OTROS DELITOS"]
[{"$f":"+'26_Regiones'!$Y$7","v":"Violencia familiar contra la mujer ejercida alguna vez por el esposo o compañero (ENDES, 2022)"},"Total",{"$f":"'26_Regiones'!Y34","v":0.47786899998919863},{"$f":"'26_Regiones'!$Y$10","v":0.55700000000000005}]
[null,"Psicológica",{"$f":"'26_Regiones'!Z34","v":0.43919676208237285},{"$f":"'26_Regiones'!$Z$10","v":0.51900000000000002}]
[null,"Física",{"$f":"'26_Regiones'!AA34","v":0.24744211975249614},{"$f":"'26_Regiones'!$AA$10","v":0.27800000000000002}]
[null,"Sexual",{"$f":"'26_Regiones'!AB34","v":2.4744211975249613E-3},{"$f":"'26_Regiones'!$AB$10","v":6.7000000000000004E-2}]
[{"$f":"+'26_Regiones'!$AC$7","v":"Violencia física y/o sexual ejercida por el esposo o compañero en los últimos 12 meses (ENDES, 2022)"},null,{"$f":"'26_Regiones'!AC34","v":4.9000000000000002E-2},{"$f":"'26_Regiones'!$AC$10","v":8.5999999999999993E-2}]
["Mujeres víctimas del delito de trata de personas con denuncia registrada en la PNP (Ministerio Público, 2020)",null,8,342]
[{"$f":"+'26_Regiones'!AE7","v":"Número de casos de víctimas de feminicidio (Programa Aurora, Ene - May 2023)"},null,{"$f":"+'26_Regiones'!AE34","v":3},{"$f":"+'26_Regiones'!AE10","v":68}]
["*Se han incluido indicadores claves con desagregado a nivel regional"]

{"sheet":"Tumbes","index":25,"n_rows":44,"n_cols":4,"rows_kept":44,"cut":false,"hidden":false,"merged":[[35,0,35,3],[36,0,39,0],[40,0,40,1],[41,0,41,1],[42,0,42,1],[21,0,23,0],[24,0,25,0],[26,0,27,0],[28,0,28,3],[29,0,34,0],[29,1,29,3],[32,1,32,3],[19,0,20,0],[3,0,3,3],[5,0,5,1],[6,0,6,3],[7,0,8,0],[9,0,11,0],[13,0,13,3],[14,0,14,1],[15,0,15,1],[16,0,16,1],[17,0,17,3],[18,0,18,1]]}
[]
[]
[]
["INDICADORES SOCIODEMOGRÁFICOS Y BRECHAS DE GÉNERO EN EL DEPARTAMENTO DE TUMBES"]
[]
["INDICADORES SOECIOENCÓMICOS *",null,"TUMBES","NACIONAL"]
["EDUCACIÓN"]
["Tasa de analfabetismo de personas de 15 años a más (ENAHO, 2019)","Mujeres","2021-03-03","8.1%"]
[null,"Hombres","2021-07-03","3.0%"]
["Tasa neta de asistencia en educación en la modalidad básica regular (MINEDU, 2020)","Educación inicial","95.8",0.81200000000000006]
[null,"Educación primaria","94.5",0.94399999999999995]
[null,"Educación secundaria","80.6",0.83499999999999996]
["Tasa de deserción escolar en la educación básica (MINEDU, 2020)","Total","2021-09-18",9.0999999999999998E-2]
["SALUD"]
[{"$f":"+'26_Regiones'!$H$7","v":"Adolescentes de 15 a 19 años de edad alguna vez embarazadas (ENDES, 2022)"},null,{"$f":"'26_Regiones'!H35","v":0.10396269742211268},8.3000000000000004E-2]
[{"$f":"+'26_Regiones'!$I$7","v":"Porcentaje de mujeres que usan métodos anticonceptivos (ENDES, 2022)"},null,{"$f":"'26_Regiones'!I35","v":0.77720481620853865},"77.4%"]
[{"$f":"+'26_Regiones'!$J$7","v":"Porcentaje de mujeres con necesidad insatisfecha de planificación familiar (ENDES, 2022)"},null,{"$f":"'26_Regiones'!J35","v":3.3818500422485458E-2},"6.1%"]
["ECONOMÍA"]
["Porcentaje de mujeres jefas de hogar (ENAHO, 2020)",null,"14.63%","17.71%"]
["Tasa de actividad económica de mujeres y hombres (ENAHO, 2020)","Mujeres","46.61%",0.54510000000000003]
[null,"Hombres","79.31%",0.74970000000000003]
["Porcentaje de mujeres ocupadas, según sector económico (ENAHO, 2019)","A) Sector Primario","2021-02-04","21.4%"]
[null,"B) Sector Secundario","2021-06-07","8.6%"]
[null,"C) Sector Terciario","88.2","70.0%"]
["Porcentaje de mujeres y hombres que están afiliados a un sistema de pensión (ENAHO, 2020)","Mujeres","22.64%",0.28789999999999999]
[null,"Hombres","28.99%",0.41699999999999998]
["Porcentaje de mujeres y hombres sin ingresos propios (ENAHO, 2020)","Mujeres","35.8%",0.36]
[null,"Hombres","16.8%",0.19700000000000001]
["PARTICIPACIÓN POLÍTICA"]
["Número de Alcaldes/as Provinciales y Distritales 2023-2026 (JNE, 2023)","A) Alcaldes Provinciales (3 Provincias)"]
[null,"Mujeres",0,9]
[null,"Hombres",3,187]
[null,"B) Alcaldes Distritales (10 Distritos)"]
[null,"Mujeres",0,93]
[null,"Hombres",10,1601]
["VIOLENCIA Y OTROS DELITOS"]
[{"$f":"+'26_Regiones'!$Y$7","v":"Violencia familiar contra la mujer ejercida alguna vez por el esposo o compañero (ENDES, 2022)"},"Total",{"$f":"'26_Regiones'!Y35","v":0.55396276868390693},{"$f":"'26_Regiones'!$Y$10","v":0.55700000000000005}]
[null,"Psicológica",{"$f":"'26_Regiones'!Z35","v":0.5029662462493395},{"$f":"'26_Regiones'!$Z$10","v":0.51900000000000002}]
[null,"Física",{"$f":"'26_Regiones'!AA35","v":0.29309373341520273},{"$f":"'26_Regiones'!$AA$10","v":0.27800000000000002}]
[null,"Sexual",{"$f":"'26_Regiones'!AB35","v":2.9309373341520274E-3},{"$f":"'26_Regiones'!$AB$10","v":6.7000000000000004E-2}]
[{"$f":"+'26_Regiones'!$AC$7","v":"Violencia física y/o sexual ejercida por el esposo o compañero en los últimos 12 meses (ENDES, 2022)"},null,{"$f":"'26_Regiones'!AC35","v":0.10099999999999999},{"$f":"'26_Regiones'!$AC$10","v":8.5999999999999993E-2}]
["Mujeres víctimas del delito de trata de personas con denuncia registrada en la PNP (Ministerio Público, 2020)",null,"-",342]
[{"$f":"+'26_Regiones'!AE7","v":"Número de casos de víctimas de feminicidio (Programa Aurora, Ene - May 2023)"},null,{"$f":"+'26_Regiones'!AE35","v":0},{"$f":"+'26_Regiones'!AE10","v":68}]
["*Se han incluido indicadores claves con desagregado a nivel regional"]

{"sheet":"Ucayali","index":26,"n_rows":48,"n_cols":4,"rows_kept":48,"cut":false,"hidden":false,"merged":[[38,0,38,3],[39,0,42,0],[43,0,43,1],[44,0,44,1],[45,0,45,1],[32,0,37,0],[32,1,32,3],[35,1,35,3],[15,0,15,1],[16,0,16,1],[17,0,17,1],[18,0,18,3],[19,0,19,1],[20,0,21,0],[22,0,24,0],[25,0,26,0],[27,0,28,0],[29,0,30,0],[31,0,31,3],[14,0,14,3],[4,0,4,3],[6,0,6,1],[7,0,7,3],[8,0,9,0],[10,0,12,0]]}
[]
[]
[]
[]
["INDICADORES SOCIODEMOGRÁFICOS Y BRECHAS DE GÉNERO EN EL DEPARTAMENTO DE UCAYALI"]
[]
["INDICADORES SOECIOENCÓMICOS *",null,"UCAYALI","NACIONAL"]
["EDUCACIÓN"]
["Tasa de analfabetismo de personas de 15 años a más (ENAHO, 2019)","Mujeres","7.7%","8.1%"]
[null,"Hombres","2.2%","3.0%"]
["Tasa neta de asistencia en educación en la modalidad básica regular (MINEDU, 2020)","Educación inicial","72.8%",0.81200000000000006]
[null,"Educación primaria","92.2%",0.94399999999999995]
[null,"Educación secundaria","71.9%",0.83499999999999996]
["Tasa de deserción escolar en la educación básica (MINEDU, 2020)","Total","17.5%",9.0999999999999998E-2]
["SALUD"]
[{"$f":"+'26_Regiones'!$H$7","v":"Adolescentes de 15 a 19 años de edad alguna vez embarazadas (ENDES, 2022)"},null,{"$f":"'26_Regiones'!H36","v":0.17027260188329682},8.3000000000000004E-2]
[{"$f":"+'26_Regiones'!$I$7","v":"Porcentaje de mujeres que usan métodos anticonceptivos (ENDES, 2022)"},null,{"$f":"'26_Regiones'!I36","v":0.72267481881736739},"77.4%"]
[{"$f":"+'26_Regiones'!$J$7","v":"Porcentaje de mujeres con necesidad insatisfecha de planificación familiar (ENDES, 2022)"},null,{"$f":"'26_Regiones'!J36","v":8.0685189236717025E-2},"6.1%"]
["ECONOMÍA"]
["Porcentaje de mujeres jefas de hogar (ENAHO, 2020)",null,"16.20%","17.71%"]
["Tasa de actividad económica de mujeres y hombres (ENAHO, 2020)","Mujeres","57.24%",0.54510000000000003]
[null,"Hombres","81.73%",0.74970000000000003]
["Porcentaje de mujeres ocupadas, según sector económico (ENAHO, 2019)","A) Sector Primario","14.7%","21.4%"]
[null,"B) Sector Secundario","7.7%","8.6%"]
[null,"C) Sector Terciario","77.7%","70.0%"]
["Porcentaje de mujeres y hombres que están afiliados a un sistema de pensión (ENAHO, 2020)","Mujeres","20.83%",0.28789999999999999]
[null,"Hombres","35.86%",0.41699999999999998]
["Tasa de informalidad de mujeres y hombres (ENAHO, 2020)","Mujeres","83.99%",0.77249999999999996]
[null,"Hombres","81.16%  ",0.73939999999999995]
["Porcentaje de mujeres y hombres sin ingresos propios (ENAHO, 2020)","Mujeres","29.9%",0.36]
[null,"Hombres","13.8%",0.19700000000000001]
["PARTICIPACIÓN POLÍTICA"]
["Número de Alcaldes/as Provinciales y Distritales 2023-2026 (JNE, 2023)","A) Alcaldes Provinciales (4 Provincias)"]
[null,"Mujeres",1,9]
[null,"Hombres",3,187]
[null,"B) Alcaldes Distritales (13 Distritos)"]
[null,"Mujeres",1,93]
[null,"Hombres",14,1601]
["VIOLENCIA Y OTROS DELITOS"]
[{"$f":"+'26_Regiones'!$Y$7","v":"Violencia familiar contra la mujer ejercida alguna vez por el esposo o compañero (ENDES, 2022)"},"Total",{"$f":"'26_Regiones'!Y36","v":0.42687751937778562},{"$f":"'26_Regiones'!$Y$10","v":0.55700000000000005}]
[null,"Psicológica",{"$f":"'26_Regiones'!Z36","v":0.34758628152107918},{"$f":"'26_Regiones'!$Z$10","v":0.51900000000000002}]
[null,"Física",{"$f":"'26_Regiones'!AA36","v":0.26265561361725398},{"$f":"'26_Regiones'!$AA$10","v":0.27800000000000002}]
[null,"Sexual",{"$f":"'26_Regiones'!AB36","v":2.6265561361725398E-3},{"$f":"'26_Regiones'!$AB$10","v":6.7000000000000004E-2}]
[{"$f":"+'26_Regiones'!$AC$7","v":"Violencia física y/o sexual ejercida por el esposo o compañero en los últimos 12 meses (ENDES, 2022)"},null,{"$f":"'26_Regiones'!AC36","v":4.2000000000000003E-2},{"$f":"'26_Regiones'!$AC$10","v":8.5999999999999993E-2}]
["Mujeres víctimas del delito de trata de personas con denuncia registrada en la PNP (Ministerio Público, 2020)",null,1,342]
[{"$f":"+'26_Regiones'!AE7","v":"Número de casos de víctimas de feminicidio (Programa Aurora, Ene - May 2023)"},null,{"$f":"+'26_Regiones'!AE36","v":2},{"$f":"+'26_Regiones'!AE10","v":68}]
[]
["*Se han incluido indicadores claves con desagregado a nivel regional"]